BEGIN:VCALENDAR
VERSION:2.0
PRODID:-//Transition Schwarzenburgerland - ECPv6.15.20//NONSGML v1.0//EN
CALSCALE:GREGORIAN
METHOD:PUBLISH
X-ORIGINAL-URL:https://transition-schwarzenburgerland.ch
X-WR-CALDESC:Veranstaltungen für Transition Schwarzenburgerland
REFRESH-INTERVAL;VALUE=DURATION:PT1H
X-Robots-Tag:noindex
X-PUBLISHED-TTL:PT1H
BEGIN:VTIMEZONE
TZID:Europe/Zurich
BEGIN:DAYLIGHT
TZOFFSETFROM:+0100
TZOFFSETTO:+0200
TZNAME:CEST
DTSTART:20250330T010000
END:DAYLIGHT
BEGIN:STANDARD
TZOFFSETFROM:+0200
TZOFFSETTO:+0100
TZNAME:CET
DTSTART:20251026T010000
END:STANDARD
BEGIN:DAYLIGHT
TZOFFSETFROM:+0100
TZOFFSETTO:+0200
TZNAME:CEST
DTSTART:20260329T010000
END:DAYLIGHT
BEGIN:STANDARD
TZOFFSETFROM:+0200
TZOFFSETTO:+0100
TZNAME:CET
DTSTART:20261025T010000
END:STANDARD
BEGIN:DAYLIGHT
TZOFFSETFROM:+0100
TZOFFSETTO:+0200
TZNAME:CEST
DTSTART:20270328T010000
END:DAYLIGHT
BEGIN:STANDARD
TZOFFSETFROM:+0200
TZOFFSETTO:+0100
TZNAME:CET
DTSTART:20271031T010000
END:STANDARD
END:VTIMEZONE
BEGIN:VEVENT
DTSTART;TZID=Europe/Zurich:20260204T141500
DTEND;TZID=Europe/Zurich:20260204T174500
DTSTAMP:20260420T140311
CREATED:20251017T144037Z
LAST-MODIFIED:20251017T144037Z
UID:2662-1770214500-1770227100@transition-schwarzenburgerland.ch
SUMMARY:Selbermachen statt kaufen: Naturkosmetik «Gesicht»
DESCRIPTION:Natürlich und nachhaltig leben\nDu möchtest Deine Kosmetikprodukte selber herstellen? Wissen\, was Du auf Gesicht und Körper aufträgst? \nAn diesem Kurs erhältst Du einen Einblick in die wunderbaren\, wertvollen Rohstoffe und du stellst ein Reinigungstonic\, Gesichtscrème\, Lippenpflege und Erfrischungsspray her. \nLass Dich begeistern! \nZusatzkosten\nCHF 20.00 für Material.
URL:https://transition-schwarzenburgerland.ch/agenda/selbermachen-statt-kaufen-naturkosmetik-gesicht/
LOCATION:Antoinette Schneiter\, Dorf 65\, Guggisberg\, Dorf 65\, Guggisberg\, 3158
CATEGORIES:Abfall,Konsum,Naturdialog,Zusammenleben
ATTACH;FMTTYPE=image/jpeg:https://transition-schwarzenburgerland.ch/wp-content/uploads/2025/10/25W-653_1_Naturkosmetik3.jpg
ORGANIZER;CN="VHS Schwarzenburg":MAILTO:info@vhschwarzenburg.ch
END:VEVENT
END:VCALENDAR