BEGIN:VCALENDAR
VERSION:2.0
PRODID:-//Transition Schwarzenburgerland - ECPv6.15.20//NONSGML v1.0//EN
CALSCALE:GREGORIAN
METHOD:PUBLISH
X-WR-CALNAME:Transition Schwarzenburgerland
X-ORIGINAL-URL:https://transition-schwarzenburgerland.ch
X-WR-CALDESC:Veranstaltungen für Transition Schwarzenburgerland
REFRESH-INTERVAL;VALUE=DURATION:PT1H
X-Robots-Tag:noindex
X-PUBLISHED-TTL:PT1H
BEGIN:VTIMEZONE
TZID:Europe/Zurich
BEGIN:DAYLIGHT
TZOFFSETFROM:+0100
TZOFFSETTO:+0200
TZNAME:CEST
DTSTART:20240331T010000
END:DAYLIGHT
BEGIN:STANDARD
TZOFFSETFROM:+0200
TZOFFSETTO:+0100
TZNAME:CET
DTSTART:20241027T010000
END:STANDARD
BEGIN:DAYLIGHT
TZOFFSETFROM:+0100
TZOFFSETTO:+0200
TZNAME:CEST
DTSTART:20250330T010000
END:DAYLIGHT
BEGIN:STANDARD
TZOFFSETFROM:+0200
TZOFFSETTO:+0100
TZNAME:CET
DTSTART:20251026T010000
END:STANDARD
BEGIN:DAYLIGHT
TZOFFSETFROM:+0100
TZOFFSETTO:+0200
TZNAME:CEST
DTSTART:20260329T010000
END:DAYLIGHT
BEGIN:STANDARD
TZOFFSETFROM:+0200
TZOFFSETTO:+0100
TZNAME:CET
DTSTART:20261025T010000
END:STANDARD
END:VTIMEZONE
BEGIN:VEVENT
DTSTART;TZID=Europe/Zurich:20251211T150000
DTEND;TZID=Europe/Zurich:20251211T173000
DTSTAMP:20260420T170825
CREATED:20251114T125132Z
LAST-MODIFIED:20251114T141008Z
UID:2683-1765465200-1765474200@transition-schwarzenburgerland.ch
SUMMARY:Besuch bei Verein An-Eco
DESCRIPTION:Am Donnerstag\, den 11. Dezember\, bietet An-Eco eine Eröffnungsbesichtigung der Abwassersysteme der Wohnbaugenossenschaft La Bistoquette an. Die 330 Bewohner der Genossenschaft leben in drei Gebäuden\, die – neben vielen anderen Besonderheiten dieses äusserst umweltfreundlichen Projekts – über eine Trennung der Abwasserströme für eine optimale Verwertung verfügen. \nDank Trenntoiletten wird Urin von Fäkalien getrennt\, um: \n\ndas gelbe Wasser in Aurin-Dünger umzuwandeln #VunaNexus\ndas braune Wasser in einem Wurmkompostfilter zu behandeln\ndas graue Wasser durch einen Pflanzenfilter zu lassen\n\nDas aufbereitete Wasser wird anschließend für die Toilettenspülung des Gebäudes und einen Teil der Bewässerung verwendet\, wodurch jährlich mehr als 5.000 m3 Trinkwasser eingespart werden! \nDas Programm ist einfach und verspricht einen interessanten und geselligen Nachmittag: \n\nBesichtigung der Anlagen von 15 bis 16.30 Uhr\nApéro und Diskussion ab 16.30 Uhr\n\nBitte melden Sie sich über das folgende Formular an: https://lnkd.in/dUZaCWdr
URL:https://transition-schwarzenburgerland.ch/agenda/besuch-bei-verein-an-eco-2/
LOCATION:Chemin du Bois-Ecard 12\, 1228 Plan-les-Ouates\, Chemin du Bois-Ecard 12\, Plan-les-Ouates\, GE\, 1228\, Switzerland
CATEGORIES:Abfall,Kreislaufwirtschaft,Lokale Kreisläufe
ATTACH;FMTTYPE=image/jpeg:https://transition-schwarzenburgerland.ch/wp-content/uploads/2025/04/aneco_cressy.jpg
ORGANIZER;CN="Verein An-Eco":MAILTO:info@an-eco.ch
END:VEVENT
BEGIN:VEVENT
DTSTART;TZID=Europe/Zurich:20251212T100000
DTEND;TZID=Europe/Zurich:20251212T133000
DTSTAMP:20260420T170825
CREATED:20251019T182318Z
LAST-MODIFIED:20251114T125419Z
UID:2672-1765533600-1765546200@transition-schwarzenburgerland.ch
SUMMARY:Yul Brunch
DESCRIPTION:Pflanzlich vollwertiger Familienbrunch\nWir verbinden die Wärme von Weihnachten mit den alten Yule-Traditionen – voller Licht\, Genuss und Gemeinschaft. \nLasst uns feiern\, geniessen innehalten und in guter Gesellschaft ins neue Jahr blicken. \nBuffet inkl. Getränke\nErwachsenen: CHF 39\nKinder bis 12 Jahre: CHF 15\nKinder bis 5 Jahre: gratis
URL:https://transition-schwarzenburgerland.ch/agenda/yul-brunch/
LOCATION:Tanz & Heilkunst Gantrisch\, Freiburgstrasse 15\, Schwarzenburg\, 3150\, Switzerland
CATEGORIES:Ernährung,Konsum
ATTACH;FMTTYPE=image/jpeg:https://transition-schwarzenburgerland.ch/wp-content/uploads/2025/10/202510_Flyer_Brunch.jpg
ORGANIZER;CN="wild woman":MAILTO:info@wildwoman.ch
END:VEVENT
END:VCALENDAR