BEGIN:VCALENDAR
VERSION:2.0
PRODID:-//Transition Schwarzenburgerland - ECPv6.15.20//NONSGML v1.0//EN
CALSCALE:GREGORIAN
METHOD:PUBLISH
X-ORIGINAL-URL:https://transition-schwarzenburgerland.ch
X-WR-CALDESC:Veranstaltungen für Transition Schwarzenburgerland
REFRESH-INTERVAL;VALUE=DURATION:PT1H
X-Robots-Tag:noindex
X-PUBLISHED-TTL:PT1H
BEGIN:VTIMEZONE
TZID:Europe/Zurich
BEGIN:DAYLIGHT
TZOFFSETFROM:+0100
TZOFFSETTO:+0200
TZNAME:CEST
DTSTART:20240331T010000
END:DAYLIGHT
BEGIN:STANDARD
TZOFFSETFROM:+0200
TZOFFSETTO:+0100
TZNAME:CET
DTSTART:20241027T010000
END:STANDARD
BEGIN:DAYLIGHT
TZOFFSETFROM:+0100
TZOFFSETTO:+0200
TZNAME:CEST
DTSTART:20250330T010000
END:DAYLIGHT
BEGIN:STANDARD
TZOFFSETFROM:+0200
TZOFFSETTO:+0100
TZNAME:CET
DTSTART:20251026T010000
END:STANDARD
BEGIN:DAYLIGHT
TZOFFSETFROM:+0100
TZOFFSETTO:+0200
TZNAME:CEST
DTSTART:20260329T010000
END:DAYLIGHT
BEGIN:STANDARD
TZOFFSETFROM:+0200
TZOFFSETTO:+0100
TZNAME:CET
DTSTART:20261025T010000
END:STANDARD
END:VTIMEZONE
BEGIN:VEVENT
DTSTART;TZID=Europe/Zurich:20250404T193000
DTEND;TZID=Europe/Zurich:20250404T213000
DTSTAMP:20260421T071240
CREATED:20250207T140333Z
LAST-MODIFIED:20250401T170314Z
UID:2401-1743795000-1743802200@transition-schwarzenburgerland.ch
SUMMARY:ABGESAGT „Was mich betrifft…“ – Gesprächsreihe zum inneren Wandel
DESCRIPTION:Alle reden übers Wetter? Wir reden über das\, was uns wirklich beschäftigt. Über gemeisterte und noch zu überstehende Krisen\, über unseren ganz eigenen Traum vom guten Leben\, über das\, was uns beseelt und das\, was uns zu schaffen macht. Über Einsamkeit\, Geld\, Selbstzweifel\, Freundschaften\, Flow und vieles mehr. \nDie Idee: Orte\, an denen wir glauben\, besser (schöner\, schlauer\, souveräner) sein zu müssen\, als wir sind\, gibt es genug. Lasst uns Räume schaffen\, wo wir sein können\, wie wir wirklich sind. Hosen runter\, rein in die Verletzlichkeit und hin zum Austausch und zur Verbindung! \n\n\nWir sind Mirjam und Rosetta und freuen uns auf bekannte und neue Gesichter. \nOffen für alle ab 18. Findet ca. alle 6 Wochen statt. \nInfo und Auskunft: Anmeldung bis am Vortag bei Mirjam ms.s(at)posteo.ch
URL:https://transition-schwarzenburgerland.ch/agenda/was-mich-betrifft-gespraechsreihe-zum-inneren-wandel-16/
LOCATION:Obereichistrasse 42\, Lanzenhäusern\, 3148
CATEGORIES:Innerer Wandel,Sozial,Zusammenleben
ATTACH;FMTTYPE=image/jpeg:https://transition-schwarzenburgerland.ch/wp-content/uploads/2022/09/Wasmichbetrifft1.jpeg
ORGANIZER;CN="Mirjam Schl%C3%A4fli":MAILTO:ms.s(at)posteo.ch
END:VEVENT
BEGIN:VEVENT
DTSTART;TZID=Europe/Zurich:20250424T170000
DTEND;TZID=Europe/Zurich:20250424T190000
DTSTAMP:20260421T071240
CREATED:20250408T185130Z
LAST-MODIFIED:20250408T185246Z
UID:2454-1745514000-1745521200@transition-schwarzenburgerland.ch
SUMMARY:Besichtigung der ARA Thunersee
DESCRIPTION:Die ARA Thunersee organisiert am 24. April eine Besichtigung der ARA Thunersee mit anschliessendem Apéro. Die Kläranlage reinigt das Abwasser von 200’000 Personen mit Hilfe von modernen und vielfältigen Systemen wie dem biologischen Phosphorabbau (Bio-P)\, der Entfernung von Mikroverunreinigungen\, Anammox\, Schlammbehandlung\, etc.\nTreffpunkt beim Eingang der ARA\, Aarestrasse 62\, Uetendorf um 17:00 und Apéro um ca. 18:30 \nAnreise: Mit der S4 von Bern oder Thun bis zur Haltestelle „Uetendorf Allmend“\, dann ca. 10-15′ zu Fuss.\nKostenbeteiligung: 40 CHF pro Person. \nAnmeldung: bis zum 17. April bei: bastian.etter@vuna.ch \nDer Verein Va-loo\, der sich für ressourcenorientierte Sanitärysteme einsetzt\, unterstützt diese Veranstaltung. Transition Schwarzenburgerland\, die derzeit an den Kreisläufen von der Ernte bis zur Trockentoilette arbeitet\, wird ebenfalls teilnehmen. Du auch?
URL:https://transition-schwarzenburgerland.ch/agenda/besichtigung-der-ara-thunersee/
LOCATION:ARA\, Aarestrasse 62\, Uetendorf\, Aarestrasse 62\, Uetendorf
CATEGORIES:Biodiversität,Lokale Kreisläufe,Technische Innovation
ATTACH;FMTTYPE=image/jpeg:https://transition-schwarzenburgerland.ch/wp-content/uploads/2025/04/ara-thunersee.jpg
END:VEVENT
BEGIN:VEVENT
DTSTART;TZID=Europe/Zurich:20250426T100000
DTEND;TZID=Europe/Zurich:20250426T150000
DTSTAMP:20260421T071240
CREATED:20241207T162403Z
LAST-MODIFIED:20250407T164234Z
UID:2352-1745661600-1745679600@transition-schwarzenburgerland.ch
SUMMARY:Velo-Tag - Putzen\, Flicken\, Börse
DESCRIPTION:Frühlingserwachen für dein Velo! \nDie ersten Sonnenstrahlen locken uns hinaus in die Natur. Damit dein Fahrrad bereit ist für unvergessliche Touren\, veranstaltet die Transition Schwarzenburgerland im Frühling 2025 den ersten Velo-Tag. \nOb Schlauch wechseln\, Bremsen einstellen oder einfach nur eine gründliche Reinigung – unsere erfahrenen Helfenden stehen dir mit Rat und Tat zur Seite. Mach dein Velo wieder zum besten Freund und erlebe den Frühling in vollen Zügen! \nKomm auch zur Velobörse und verkaufe oder kaufe ein Velo. \nDu möchtest… \n\n… dein Velo auf Hochglanz polieren?\n… deinen Platten selber flicken lernen?\n… dein altes Velo verkaufen?\n… ein neues Velo finden?\n\nDann komm zu unserem Velo-Tag! \n  \nSO FUNKTIONIERT‘S: \nBörse Velo-Annahme: 9 – 13 Uhr \nVerkauf\, Flicken und Putzen: 10 – 15 Uhr \nVelorücknahme bei Nichtverkauf 15 – 16 Uhr \n  \nInfos zur Börse: \nSiehe Spielregeln-Veloboerse.pdf \n  \nInfos zum Flicken: \nwas wird geflickt: \n\nBremsen einstellen\nBremsbelege wechseln\nSchaltung einstellen\nKomponente justieren (z.B. Schutzblech\, Lampe)\nPneu/Schlauch wechseln\nevtl. Licht reparieren\n\nErsatzteile bitte selbst mitbringen / nach Abklärung einkaufen gehen. \nwas wird an Velomech verwiesen: \n\nKette/Zahnkranz wechseln\ngrössere Komponentenwechsel (z.B Rad\, Schaltung\, Bremsscheibe)
URL:https://transition-schwarzenburgerland.ch/agenda/velo-tag-2025-04-26/
LOCATION:Aula OSZ\, Einschlag 7\, Schwarzenburg\, 3150\, Schweiz
CATEGORIES:Sharing Economy,Sozial,Verkehr,Zusammenleben
ATTACH;FMTTYPE=image/jpeg:https://transition-schwarzenburgerland.ch/wp-content/uploads/2024/12/grafik-veloflicken.jpg
ORGANIZER;CN="Transition Schwarzenburgerland":MAILTO:transition.schwarzenburgerland@gmail.com
END:VEVENT
END:VCALENDAR