BEGIN:VCALENDAR
VERSION:2.0
PRODID:-//Transition Schwarzenburgerland - ECPv6.15.20//NONSGML v1.0//EN
CALSCALE:GREGORIAN
METHOD:PUBLISH
X-ORIGINAL-URL:https://transition-schwarzenburgerland.ch
X-WR-CALDESC:Veranstaltungen für Transition Schwarzenburgerland
REFRESH-INTERVAL;VALUE=DURATION:PT1H
X-Robots-Tag:noindex
X-PUBLISHED-TTL:PT1H
BEGIN:VTIMEZONE
TZID:Europe/Zurich
BEGIN:DAYLIGHT
TZOFFSETFROM:+0100
TZOFFSETTO:+0200
TZNAME:CEST
DTSTART:20240331T010000
END:DAYLIGHT
BEGIN:STANDARD
TZOFFSETFROM:+0200
TZOFFSETTO:+0100
TZNAME:CET
DTSTART:20241027T010000
END:STANDARD
BEGIN:DAYLIGHT
TZOFFSETFROM:+0100
TZOFFSETTO:+0200
TZNAME:CEST
DTSTART:20250330T010000
END:DAYLIGHT
BEGIN:STANDARD
TZOFFSETFROM:+0200
TZOFFSETTO:+0100
TZNAME:CET
DTSTART:20251026T010000
END:STANDARD
BEGIN:DAYLIGHT
TZOFFSETFROM:+0100
TZOFFSETTO:+0200
TZNAME:CEST
DTSTART:20260329T010000
END:DAYLIGHT
BEGIN:STANDARD
TZOFFSETFROM:+0200
TZOFFSETTO:+0100
TZNAME:CET
DTSTART:20261025T010000
END:STANDARD
END:VTIMEZONE
BEGIN:VEVENT
DTSTART;TZID=Europe/Zurich:20250207T193000
DTEND;TZID=Europe/Zurich:20250207T213000
DTSTAMP:20260421T104237
CREATED:20250207T140558Z
LAST-MODIFIED:20250207T140558Z
UID:2405-1738956600-1738963800@transition-schwarzenburgerland.ch
SUMMARY:„Was mich betrifft…“ – Gesprächsreihe zum inneren Wandel
DESCRIPTION:Alle reden übers Wetter? Wir reden über das\, was uns wirklich beschäftigt. Über gemeisterte und noch zu überstehende Krisen\, über unseren ganz eigenen Traum vom guten Leben\, über das\, was uns beseelt und das\, was uns zu schaffen macht. Über Einsamkeit\, Geld\, Selbstzweifel\, Freundschaften\, Flow und vieles mehr. \nDie Idee: Orte\, an denen wir glauben\, besser (schöner\, schlauer\, souveräner) sein zu müssen\, als wir sind\, gibt es genug. Lasst uns Räume schaffen\, wo wir sein können\, wie wir wirklich sind. Hosen runter\, rein in die Verletzlichkeit und hin zum Austausch und zur Verbindung! \nGedankenanstösse zum Thema: \n\nWas braust du wirklich?\nWie viele Sachen besitzt du?\nWas ist dein Lieblingsgegenstand?\n\n\n\nWir sind Mirjam und Rosetta und freuen uns auf bekannte und neue Gesichter. \nOffen für alle ab 18. Findet ca. alle 6 Wochen statt. \nInfo und Auskunft: Anmeldung bis am Vortag bei Mirjam ms.s(at)posteo.ch
URL:https://transition-schwarzenburgerland.ch/agenda/was-mich-betrifft-gespraechsreihe-zum-inneren-wandel-18/
LOCATION:Obereichistrasse 42\, Lanzenhäusern\, 3148
CATEGORIES:Innerer Wandel,Sozial,Zusammenleben
ATTACH;FMTTYPE=image/jpeg:https://transition-schwarzenburgerland.ch/wp-content/uploads/2022/09/Wasmichbetrifft1.jpeg
ORGANIZER;CN="Mirjam Schl%C3%A4fli":MAILTO:ms.s(at)posteo.ch
END:VEVENT
BEGIN:VEVENT
DTSTART;TZID=Europe/Zurich:20250228T193000
DTEND;TZID=Europe/Zurich:20250228T213000
DTSTAMP:20260421T104237
CREATED:20250207T140133Z
LAST-MODIFIED:20250224T172205Z
UID:2399-1740771000-1740778200@transition-schwarzenburgerland.ch
SUMMARY:„Was mich betrifft…“ – Gesprächsreihe zum inneren Wandel - Thema: Hoffnung
DESCRIPTION:Alle reden übers Wetter? Wir reden über das\, was uns wirklich beschäftigt. Über gemeisterte und noch zu überstehende Krisen\, über unseren ganz eigenen Traum vom guten Leben\, über das\, was uns beseelt und das\, was uns zu schaffen macht. Über Einsamkeit\, Geld\, Selbstzweifel\, Freundschaften\, Flow und vieles mehr. \nDie Idee: Orte\, an denen wir glauben\, besser (schöner\, schlauer\, souveräner) sein zu müssen\, als wir sind\, gibt es genug. Lasst uns Räume schaffen\, wo wir sein können\, wie wir wirklich sind. Hosen runter\, rein in die Verletzlichkeit und hin zum Austausch und zur Verbindung! \nGedankenanstösse zum Thema: \n\nWas gibt dir Hoffnung?\nBist du Positiv eingestellt?\nWas denkst du über das Zitat von Martin Luther „Selbst wenn ich wüsste\, dass morgen die Welt untergeht\, würde ich heute noch einen Apfelbaum pflanzen.“\n\n\n\nWir sind Mirjam und Rosetta und freuen uns auf bekannte und neue Gesichter. \nOffen für alle ab 18. Findet ca. alle 6 Wochen statt. \nInfo und Auskunft: Anmeldung bis am Vortag bei Mirjam ms.s(at)posteo.ch
URL:https://transition-schwarzenburgerland.ch/agenda/was-mich-betrifft-gespraechsreihe-zum-inneren-wandel-15/
LOCATION:Obereichistrasse 42\, Lanzenhäusern\, 3148
CATEGORIES:Innerer Wandel,Sozial,Zusammenleben
ATTACH;FMTTYPE=image/jpeg:https://transition-schwarzenburgerland.ch/wp-content/uploads/2022/09/Wasmichbetrifft1.jpeg
ORGANIZER;CN="Mirjam Schl%C3%A4fli":MAILTO:ms.s(at)posteo.ch
END:VEVENT
END:VCALENDAR