BEGIN:VCALENDAR
VERSION:2.0
PRODID:-//Transition Schwarzenburgerland - ECPv6.15.20//NONSGML v1.0//EN
CALSCALE:GREGORIAN
METHOD:PUBLISH
X-ORIGINAL-URL:https://transition-schwarzenburgerland.ch
X-WR-CALDESC:Veranstaltungen für Transition Schwarzenburgerland
REFRESH-INTERVAL;VALUE=DURATION:PT1H
X-Robots-Tag:noindex
X-PUBLISHED-TTL:PT1H
BEGIN:VTIMEZONE
TZID:Europe/Zurich
BEGIN:DAYLIGHT
TZOFFSETFROM:+0100
TZOFFSETTO:+0200
TZNAME:CEST
DTSTART:20230326T010000
END:DAYLIGHT
BEGIN:STANDARD
TZOFFSETFROM:+0200
TZOFFSETTO:+0100
TZNAME:CET
DTSTART:20231029T010000
END:STANDARD
BEGIN:DAYLIGHT
TZOFFSETFROM:+0100
TZOFFSETTO:+0200
TZNAME:CEST
DTSTART:20240331T010000
END:DAYLIGHT
BEGIN:STANDARD
TZOFFSETFROM:+0200
TZOFFSETTO:+0100
TZNAME:CET
DTSTART:20241027T010000
END:STANDARD
BEGIN:DAYLIGHT
TZOFFSETFROM:+0100
TZOFFSETTO:+0200
TZNAME:CEST
DTSTART:20250330T010000
END:DAYLIGHT
BEGIN:STANDARD
TZOFFSETFROM:+0200
TZOFFSETTO:+0100
TZNAME:CET
DTSTART:20251026T010000
END:STANDARD
END:VTIMEZONE
BEGIN:VEVENT
DTSTART;TZID=Europe/Zurich:20241005T101800
DTEND;TZID=Europe/Zurich:20241005T170000
DTSTAMP:20260422T220039
CREATED:20240706T203326Z
LAST-MODIFIED:20250110T132000Z
UID:2133-1728123480-1728147600@transition-schwarzenburgerland.ch
SUMMARY:Besuch im Naturhistorischen Museum Bern - Sonderausstellung "Insektensterben - alles wird gut"
DESCRIPTION:Wir besuchen zusammen die Sonderausstellung „Insektensterben – alles wird gut“ im Naturhistorischen Museum Bern. \nGemeinsame Anreise ab Schwarzenburg / Lanzenhäusern (mit der S6 um 10:18 / 10:21). Alle organisieren Ticket & Eintritt individuell – falls wir zu 10t sind\, reicht es für ein Gruppenticket im Museum.
URL:https://transition-schwarzenburgerland.ch/agenda/besuch-im-naturhistorisches-museum-bern-sonderausstellung-insekten-sterben-alles-wird-gut/
LOCATION:Naturhistorisches Museum Bern\, Bernastrasse 15\, Bern\, 3006\, Schweiz
CATEGORIES:Biodiversität
ATTACH;FMTTYPE=image/jpeg:https://transition-schwarzenburgerland.ch/wp-content/uploads/2024/07/nmbe_insektensterben.jpg
ORGANIZER;CN="Transition Schwarzenburgerland":MAILTO:transition.schwarzenburgerland@gmail.com
END:VEVENT
BEGIN:VEVENT
DTSTART;TZID=Europe/Zurich:20241018T193000
DTEND;TZID=Europe/Zurich:20241018T213000
DTSTAMP:20260422T220039
CREATED:20240421T184454Z
LAST-MODIFIED:20250110T131953Z
UID:2045-1729279800-1729287000@transition-schwarzenburgerland.ch
SUMMARY:„Was mich betrifft…“ – Gesprächsreihe zum inneren Wandel - Thema: Ferien
DESCRIPTION:Alle reden übers Wetter? Wir reden über das\, was uns wirklich beschäftigt. Über gemeisterte und noch zu überstehende Krisen\, über unseren ganz eigenen Traum vom guten Leben\, über das\, was uns beseelt und das\, was uns zu schaffen macht. Über Einsamkeit\, Geld\, Selbstzweifel\, Freundschaften\, Flow und vieles mehr. \nDie Idee: Orte\, an denen wir glauben\, besser (schöner\, schlauer\, souveräner) sein zu müssen\, als wir sind\, gibt es genug. Lasst uns Räume schaffen\, wo wir sein können\, wie wir wirklich sind. Hosen runter\, rein in die Verletzlichkeit und hin zum Austausch und zur Verbindung! \n\n\nWir sind Mirjam und Rosetta und freuen uns auf bekannte und neue Gesichter. \nOffen für alle ab 18. Findet ca. alle 6 Wochen statt. \nInfo und Auskunft: Anmeldung bis am Vortag bei Mirjam ms.s(at)posteo.ch
URL:https://transition-schwarzenburgerland.ch/agenda/was-mich-betrifft-gespraechsreihe-zum-inneren-wandel-13/
LOCATION:Obereichistrasse 42\, Lanzenhäusern\, 3148
CATEGORIES:Innerer Wandel,Sozial,Zusammenleben
ATTACH;FMTTYPE=image/jpeg:https://transition-schwarzenburgerland.ch/wp-content/uploads/2022/09/Wasmichbetrifft1.jpeg
ORGANIZER;CN="Mirjam Schl%C3%A4fli":MAILTO:ms.s(at)posteo.ch
END:VEVENT
BEGIN:VEVENT
DTSTART;TZID=Europe/Zurich:20241026T130000
DTEND;TZID=Europe/Zurich:20241026T153000
DTSTAMP:20260422T220039
CREATED:20241012T075745Z
LAST-MODIFIED:20241012T075745Z
UID:2267-1729947600-1729956600@transition-schwarzenburgerland.ch
SUMMARY:Senseputzete 2024
DESCRIPTION:Am Samstag\, 26. Oktober 2024 findet\, zusammen mit der Gemeinde Heitenried\, die traditionelle „Senseputzete“ im Bereich Sodbach-Grasburg-Schwarzwasserbrücke statt. \nWo?  Treffpunkt Parkplatz Sodbachbrücke\, Freiburger Seite.\nWer?  Alle. Eltern beaufsichtigen ihre Kinder.\nWie?  Zweckmässige Kleidung\, gute Schuhe. Arbeitshandschuhe werden abgegeben.\nWas?  Sammeln und Entsorgen von zurückgelassenen Abfällen und Neophyten im Uferbereich der Sense.
URL:https://transition-schwarzenburgerland.ch/agenda/senseputzete-2024/
LOCATION:Sodbachbrücke\, Sodbach 125\, Heitenried\, FR\, 1714\, Schweiz
CATEGORIES:Biodiversität,Zusammenleben
ATTACH;FMTTYPE=image/jpeg:https://transition-schwarzenburgerland.ch/wp-content/uploads/2024/10/senseputzete-schwarzenburg.jpg
END:VEVENT
END:VCALENDAR