BEGIN:VCALENDAR
VERSION:2.0
PRODID:-//Transition Schwarzenburgerland - ECPv6.15.20//NONSGML v1.0//EN
CALSCALE:GREGORIAN
METHOD:PUBLISH
X-ORIGINAL-URL:https://transition-schwarzenburgerland.ch
X-WR-CALDESC:Veranstaltungen für Transition Schwarzenburgerland
REFRESH-INTERVAL;VALUE=DURATION:PT1H
X-Robots-Tag:noindex
X-PUBLISHED-TTL:PT1H
BEGIN:VTIMEZONE
TZID:Europe/Zurich
BEGIN:DAYLIGHT
TZOFFSETFROM:+0100
TZOFFSETTO:+0200
TZNAME:CEST
DTSTART:20230326T010000
END:DAYLIGHT
BEGIN:STANDARD
TZOFFSETFROM:+0200
TZOFFSETTO:+0100
TZNAME:CET
DTSTART:20231029T010000
END:STANDARD
BEGIN:DAYLIGHT
TZOFFSETFROM:+0100
TZOFFSETTO:+0200
TZNAME:CEST
DTSTART:20240331T010000
END:DAYLIGHT
BEGIN:STANDARD
TZOFFSETFROM:+0200
TZOFFSETTO:+0100
TZNAME:CET
DTSTART:20241027T010000
END:STANDARD
BEGIN:DAYLIGHT
TZOFFSETFROM:+0100
TZOFFSETTO:+0200
TZNAME:CEST
DTSTART:20250330T010000
END:DAYLIGHT
BEGIN:STANDARD
TZOFFSETFROM:+0200
TZOFFSETTO:+0100
TZNAME:CET
DTSTART:20251026T010000
END:STANDARD
END:VTIMEZONE
BEGIN:VEVENT
DTSTART;VALUE=DATE:20240831
DTEND;VALUE=DATE:20240902
DTSTAMP:20260423T042445
CREATED:20240214T195515Z
LAST-MODIFIED:20250110T132031Z
UID:1976-1725062400-1725235199@transition-schwarzenburgerland.ch
SUMMARY:Schwarzenburger Verschenkwochenende
DESCRIPTION:Seit 2022 ermöglicht das „Verschenkforum“ unkompliziertes Verschenken via Whatsapp. Am Wochenende 31.08/01.09.2024. wollen wir auch analog verschenken. Die Idee: \n\nSammle was du weggeben möchtest\nStell es raus und kennzeichne es als „Zu verschenken“\nMit einem Foto & Adresse im Verschenkforum informierst du über dein Angebot\nBei einem Spaziergang in und um Schwarzenburg sammelst du was du brauchst
URL:https://transition-schwarzenburgerland.ch/agenda/schwarzenburger-verschenkwochenende/
LOCATION:Schwarzenburg und Umgebung
ATTACH;FMTTYPE=application/pdf:https://transition-schwarzenburgerland.ch/wp-content/uploads/2024/02/Flyer_Verschenktage.pdf
ORGANIZER;CN="Transition Schwarzenburgerland":MAILTO:transition.schwarzenburgerland@gmail.com
END:VEVENT
BEGIN:VEVENT
DTSTART;TZID=Europe/Zurich:20240907T140000
DTEND;TZID=Europe/Zurich:20240907T170000
DTSTAMP:20260423T042445
CREATED:20240706T201632Z
LAST-MODIFIED:20250110T132017Z
UID:2129-1725717600-1725728400@transition-schwarzenburgerland.ch
SUMMARY:Führung Liechti Entsorgungshof
DESCRIPTION:Wie kann ich meinen Müll entsorgen? Was passiert mit Recyclingmaterialien? Wie finde ich einen verantwortungsvollen Umgang mit Ressourcen? \nDiesen Fragen wollen wir bei einer Führung beim Entsorgungshof Liechti nachgehen. \n14:00-16:00h Führung\, Treffpunkt direkt bei Liechti entsorgt Guggisbergstrasse 104 in Schwarzenburg\n16:00-17:00h gemeinsames Picknick/Teilette (jede/r bringt etwas mit)\n\nAnmeldung: Bitte meldet euch bis Samstag\, den 31. August per Email bei Andrea.loerwald@gmail.com an.
URL:https://transition-schwarzenburgerland.ch/agenda/fuehrung-liechti-entsorgungshof/
LOCATION:Liechti entsorgt\, Guggisbergstrasse 104\, Schwarzenburg\, 3150\, Schweiz
CATEGORIES:Abfall,Konsum
ATTACH;FMTTYPE=image/jpeg:https://transition-schwarzenburgerland.ch/wp-content/uploads/2024/07/Entsorgung.jpg
ORGANIZER;CN="Transition Schwarzenburgerland":MAILTO:transition.schwarzenburgerland@gmail.com
END:VEVENT
BEGIN:VEVENT
DTSTART;TZID=Europe/Zurich:20240914T133000
DTEND;TZID=Europe/Zurich:20240914T233000
DTSTAMP:20260423T042445
CREATED:20240217T164044Z
LAST-MODIFIED:20240506T190448Z
UID:2026-1726320600-1726356600@transition-schwarzenburgerland.ch
SUMMARY:Gartenfest mit Regio-Buffet
DESCRIPTION:Wir feiern gemeinsam ein Fest in unserem Gemeinschaftsgarten. Alle sind herzlich eingeladen. \nMit Hinblick auf die Regio-Challenge der Kleinbauervereinigung gestalten wir gemeinsam ein regionales Buffet: Alle steuern etwas Feines aus regionalen Zutaten bei und los geht es mit dem geselligen Genuss :-).
URL:https://transition-schwarzenburgerland.ch/agenda/gartenfest/
LOCATION:Transition Gemeinschaftsgarten\, Schlossgasse 7\, Schwarzenburg\, 3150\, Schweiz
CATEGORIES:Garten,Innerer Wandel,Sozial,Zusammenleben
ATTACH;FMTTYPE=image/jpeg:https://transition-schwarzenburgerland.ch/wp-content/uploads/2022/09/P1150616-scaled-e1662193687838.jpg
ORGANIZER;CN="Transition Schwarzenburgerland":MAILTO:transition.schwarzenburgerland@gmail.com
END:VEVENT
BEGIN:VEVENT
DTSTART;TZID=Europe/Zurich:20240915T153000
DTEND;TZID=Europe/Zurich:20240915T180000
DTSTAMP:20260423T042445
CREATED:20240729T181953Z
LAST-MODIFIED:20250110T132008Z
UID:2200-1726414200-1726423200@transition-schwarzenburgerland.ch
SUMMARY:Regio Challenge: Film bei auVert
DESCRIPTION:Die diesjährige Regio Challenge findet vom 16. – 22. September 2024 statt\, bereits zum sechsten Mal in der Schweiz. Die Idee ist einfach: Eine Woche\, einen Tag oder an einem Event essen und trinken\, was im Umkreis einer Velotour (ca. 30 km) entstanden ist – möglich ist vieles. Weitere Informationen zur Challenge und zu den geltenden Spielregeln findet ihr auf der Homepage der Kleinbauernvereinigung. \nAus diesem Anlass schauen wir zusammen den Film Ernte teilen zum Thema Solidarische Landwirtschaft. Dazu passt perfekt\, dass auVert auf dem Wengerhof gerade die Umstellung auf Solidarische Landwirtschaft wagt! \nWer mag bringt etwas Selbstgemachtes aus regionalen Zutaten mit. \nAuf ein fröhliches Zusammensein bei Film und Regio-Zvieri!
URL:https://transition-schwarzenburgerland.ch/agenda/regio-challenge-bei-auvert/
LOCATION:Wengerhof\, Heubühne\, Oberdorf 22\, Schwarzenburg\, Bern\, 3150\, Schweiz
CATEGORIES:Ernährung,Konsum
ATTACH;FMTTYPE=image/png:https://transition-schwarzenburgerland.ch/wp-content/uploads/2024/07/regio-challenge-2024.png
ORGANIZER;CN="Transition Schwarzenburgerland":MAILTO:transition.schwarzenburgerland@gmail.com
END:VEVENT
BEGIN:VEVENT
DTSTART;TZID=Europe/Zurich:20240919T170000
DTEND;TZID=Europe/Zurich:20240919T220000
DTSTAMP:20260423T042445
CREATED:20240728T122958Z
LAST-MODIFIED:20240728T123553Z
UID:2156-1726765200-1726783200@transition-schwarzenburgerland.ch
SUMMARY:Regio Challenge Anlass auf der Hobermatt
DESCRIPTION:Die diesjährige Regio Challenge findet vom 16. – 22. September 2024 statt\, bereits zum sechsten Mal in der Schweiz. Die Idee ist einfach: Eine Woche\, einen Tag oder an einem Event essen und trinken\, was im Umkreis einer Velotour (ca. 30 km) entstanden ist – möglich ist vieles. Weitere Informationen zur Challenge und zu den geltenden Spielregeln findet ihr auf der Homepage der Kleinbauernvereinigung. \nChallenge accepted! Wie bereits in den vergangenen Jahren nehmen auch dieses Jahr mehrere Schweizer Pärke zusammen mit ihren lokalen Partnern an der Challenge teil. Ziel ist es\, Konsument:innen und Produzent:innen oder/und Partnerbetriebe untereinander zu vernetzen. Oder anders gesagt\, die Bevölkerung für den Konsum von regionalen und saisonalen Produkten zu sensibilisieren. \nEinladung: \nWir freuen uns\, euch an den\, gemeinsam mit dem Netzwerk Schweizer Pärke organisierten Anlass\, auf der Hof Horbermatt/ Oberbalm bei der Familie Ramser einzuladen. Neben einer Hofführung\, einem Film und einem Apéro mit regionalen Produkten soll der Anlass auch Raum bieten\, sich auszutauschen und zu diskutieren. Der Anlass ist kostenlos. \nDer Anlass findet am Donnerstag\, 19. September 2024 von 17.00-22.00 Uhr auf der Horbermatt (Postautohaltestelle Oberscherli\, Leimen) statt. Wir bitten um Anmeldung bis spätestens am Montag\, 8. September 2024 unter: https://angebote.paerke.ch/de/subscription/subscriber/49499 \nProgramm \n17.00 Uhr           Start Hofführung \n19.00 Uhr           Apéro und Diskussion \n20.15 Uhr           Film «Ernte teilen» \n21.30 Uhr           Dessert \n22.00 Uhr           Verabschiedung \nWeitere Infos finden Sie hier.
URL:https://transition-schwarzenburgerland.ch/agenda/regio-challenge-anlass-auf-der-hobermatt/
LOCATION:Hobermatt\, Horbermatt\, Oberbalm\, BE\, 3096\, Switzerland
CATEGORIES:Ernährung,Konsum,Landwirtschaft,Lokale Kreisläufe
ATTACH;FMTTYPE=image/png:https://transition-schwarzenburgerland.ch/wp-content/uploads/2024/07/regio-challenge-2024.png
ORGANIZER;CN="Naturpark Gantrisch":MAILTO:info@gantrisch.ch
END:VEVENT
BEGIN:VEVENT
DTSTART;VALUE=DATE:20240920
DTEND;VALUE=DATE:20240921
DTSTAMP:20260423T042445
CREATED:20240712T095213Z
LAST-MODIFIED:20240712T100400Z
UID:2141-1726790400-1726876799@transition-schwarzenburgerland.ch
SUMMARY:PARK(ing) Day
DESCRIPTION:Was ist der PARK(ing) Day?\n\n\n\n\n\nDer PARK(ing) Day wurde im Jahr 2005 in San Francisco von einem Kunst- und Design-Kollektiv ins Leben gerufen. Die Veranstaltungs-Idee ist so einfach wie überzeugend: Auf der Fläche eines markierten Parkfelds wird temporär ein öffentlich zugänglicher Ort geschaffen. Was genau auf den Parkflächen gestaltet wird\, bleibt den TeilnehmerInnen überlassen. Allen Installationen ist gemeinsam\, dass sie einfach auf- und abgebaut werden können und dass sie nicht kommerziell sind. \n\n\n\n\n\n\nDer PARK(ing) Day findet nicht einfach von alleine statt – der PARK(ing) Day lebt von und mit dir und deiner Aktion! Wir freuen uns wenn auch du mit einer Aktion am PARK(ing) Day\, einen Parkplatz mit Leben erfüllst! \nUm dir den Einstieg zu erleichtern\, findest du auf dieser Seite nützliche Informationen für deine eigene Aktion\, Impressionen aus vergangenen Jahren und aktuelle News rund um den PARK(ing) Day. \nBist du dabei? Wir freuen uns auf dich!
URL:https://transition-schwarzenburgerland.ch/agenda/parking-day/
LOCATION:Parkplatz
CATEGORIES:Klima,Sozial,Verkehr
ATTACH;FMTTYPE=image/png:https://transition-schwarzenburgerland.ch/wp-content/uploads/2024/07/parking-day-2024.png
ORGANIZER;CN="umverkehr.ch":MAILTO:info@umverkehr.ch
END:VEVENT
END:VCALENDAR