BEGIN:VCALENDAR
VERSION:2.0
PRODID:-//Transition Schwarzenburgerland - ECPv6.15.20//NONSGML v1.0//EN
CALSCALE:GREGORIAN
METHOD:PUBLISH
X-ORIGINAL-URL:https://transition-schwarzenburgerland.ch
X-WR-CALDESC:Veranstaltungen für Transition Schwarzenburgerland
REFRESH-INTERVAL;VALUE=DURATION:PT1H
X-Robots-Tag:noindex
X-PUBLISHED-TTL:PT1H
BEGIN:VTIMEZONE
TZID:Europe/Zurich
BEGIN:DAYLIGHT
TZOFFSETFROM:+0100
TZOFFSETTO:+0200
TZNAME:CEST
DTSTART:20230326T010000
END:DAYLIGHT
BEGIN:STANDARD
TZOFFSETFROM:+0200
TZOFFSETTO:+0100
TZNAME:CET
DTSTART:20231029T010000
END:STANDARD
BEGIN:DAYLIGHT
TZOFFSETFROM:+0100
TZOFFSETTO:+0200
TZNAME:CEST
DTSTART:20240331T010000
END:DAYLIGHT
BEGIN:STANDARD
TZOFFSETFROM:+0200
TZOFFSETTO:+0100
TZNAME:CET
DTSTART:20241027T010000
END:STANDARD
BEGIN:DAYLIGHT
TZOFFSETFROM:+0100
TZOFFSETTO:+0200
TZNAME:CEST
DTSTART:20250330T010000
END:DAYLIGHT
BEGIN:STANDARD
TZOFFSETFROM:+0200
TZOFFSETTO:+0100
TZNAME:CET
DTSTART:20251026T010000
END:STANDARD
END:VTIMEZONE
BEGIN:VEVENT
DTSTART;TZID=Europe/Zurich:20240406T101500
DTEND;TZID=Europe/Zurich:20240406T160000
DTSTAMP:20260423T214632
CREATED:20240123T202818Z
LAST-MODIFIED:20240401T124241Z
UID:1925-1712398500-1712419200@transition-schwarzenburgerland.ch
SUMMARY:Ausflug in die Berner Broki
DESCRIPTION:lasst uns zusammen etwas Gutes tun und die Wirtschaft ankurbeln. Gemeinsam möchten wir nächsten Samstag nach Bern fahren\, auf Schnäppchenjagd gehen\, die Kreditkarten zum Glühen bringen\, kaufen\, kaufen\, kaufen…\nApril\, April 🙂\nWir treffen uns aber wirklich am nächsten Samstag. Los geht’s um 10:18h im Zug ab Schwarzenburg. Gemeinsam möchten wir in die Brocki gehen und Gebrauchtes bringen und kaufen. Bist du dabei?\nSiehe auch Mitmach Challenge. \n 
URL:https://transition-schwarzenburgerland.ch/agenda/ausflug-in-die-berner-broki/
CATEGORIES:Konsum,Sharing Economy
ATTACH;FMTTYPE=image/jpeg:https://transition-schwarzenburgerland.ch/wp-content/uploads/2024/01/Skianzug.jpg
ORGANIZER;CN="Transition Schwarzenburgerland":MAILTO:transition.schwarzenburgerland@gmail.com
END:VEVENT
BEGIN:VEVENT
DTSTART;TZID=Europe/Zurich:20240425T193000
DTEND;TZID=Europe/Zurich:20240425T203000
DTSTAMP:20260423T214632
CREATED:20230925T145448Z
LAST-MODIFIED:20230925T145448Z
UID:1773-1714073400-1714077000@transition-schwarzenburgerland.ch
SUMMARY:Input Café Schwarzenburg : Vulnerabilität und Resilienz
DESCRIPTION:So funktioniert’s:\nAlle 2 Monate wird ein Thema in Fokus gestellt und mit allen Teilnehmenden darüber ausgetauscht.  \nErster Teil \nEine Person mit Wissen und Erfahrung liefert Inputs.  \nZweiter Teil \nDie Teilnehmenden haben die Gelegenheit ihre Fragen zu stellen.  \nDritter Teil \nFreier Austausch zu persönlichen Erfahrungen. Eine Moderator*in sorgt dafür\, dass alle zu Wort kommen\, die etwas beitragen möchten. Alle hören einander wertschätzend zu. \nUnkostenbeitrag: CHF 10.- inkl. einem Getränk \nNächste Termine:\n\n25.04.2024 Vulnerabilität und Resilienz\n\nModeration: N. Andres\, Sozialpädagogin \n\n06.06.2024 Film: #Female Pleasure. Ausschnitte und Diskussion\n\nModeration: N. Andres\, Sozialpädagogin \nFlyer Input Café
URL:https://transition-schwarzenburgerland.ch/agenda/input-cafe-schwarzenburg-vulnerabilitaet-und-resilienz/
LOCATION:Generationehuus\, Bernstrasse 9\, Schwarzenburg\, BE\, 3150\, Schweiz
CATEGORIES:Innerer Wandel,Sozial,Zusammenleben
ATTACH;FMTTYPE=image/jpeg:https://transition-schwarzenburgerland.ch/wp-content/uploads/2023/09/Image-Input-Cafe-Schwarzenburg-1.jpg
END:VEVENT
BEGIN:VEVENT
DTSTART;TZID=Europe/Zurich:20240427T090000
DTEND;TZID=Europe/Zurich:20240427T160000
DTSTAMP:20260423T214632
CREATED:20240214T201218Z
LAST-MODIFIED:20240214T201413Z
UID:1982-1714208400-1714233600@transition-schwarzenburgerland.ch
SUMMARY:Pflegeeinsatz «Grasburg Naturerlebnispfad»
DESCRIPTION:Wir richten den Pfad für die Saison ein. \nLeitung: Walter Frey \nTreffpunkt: Parkplatz Schlössli (Grasburg) \nAusrüstung: Bitte nehmen Sie Ihre eigenen Gartenhandschuhe mit. Gutes Schuhwerk.
URL:https://transition-schwarzenburgerland.ch/agenda/pflegeeinsatz-grasburg-naturerlebnispfad/
LOCATION:Naturerlebispfad Grasburg
ATTACH;FMTTYPE=image/jpeg:https://transition-schwarzenburgerland.ch/wp-content/uploads/2024/02/Naturerlebispfad-Grasburg.jpeg
ORGANIZER;CN="Naturschutzverein Schwarzenburgerland":MAILTO:urs.weibel@naturschutzschwarzenburg.ch
END:VEVENT
BEGIN:VEVENT
DTSTART;TZID=Europe/Zurich:20240429T193000
DTEND;TZID=Europe/Zurich:20240429T213000
DTSTAMP:20260423T214632
CREATED:20240123T203028Z
LAST-MODIFIED:20250110T132141Z
UID:1927-1714419000-1714426200@transition-schwarzenburgerland.ch
SUMMARY:Mitmach Challenge - Gebrauchtes kaufen und tauschen - Ende
DESCRIPTION:Beim gemeinsamen Abschluss feiern wir das Erreichte und teilen unsere Erfahrungen. \nSiehe auch Mitmach Challenge.
URL:https://transition-schwarzenburgerland.ch/agenda/mitmach-challenge-gebrauchtes-kaufen-und-tauschen-ende/
LOCATION:Generationehuus\, Bernstrasse 9\, Schwarzenburg\, BE\, 3150\, Schweiz
CATEGORIES:Konsum,Lokale Kreisläufe,Sharing Economy,Zusammenleben
ATTACH;FMTTYPE=image/jpeg:https://transition-schwarzenburgerland.ch/wp-content/uploads/2024/01/Skianzug.jpg
ORGANIZER;CN="Transition Schwarzenburgerland":MAILTO:transition.schwarzenburgerland@gmail.com
END:VEVENT
END:VCALENDAR