BEGIN:VCALENDAR
VERSION:2.0
PRODID:-//Transition Schwarzenburgerland - ECPv6.15.20//NONSGML v1.0//EN
CALSCALE:GREGORIAN
METHOD:PUBLISH
X-WR-CALNAME:Transition Schwarzenburgerland
X-ORIGINAL-URL:https://transition-schwarzenburgerland.ch
X-WR-CALDESC:Veranstaltungen für Transition Schwarzenburgerland
REFRESH-INTERVAL;VALUE=DURATION:PT1H
X-Robots-Tag:noindex
X-PUBLISHED-TTL:PT1H
BEGIN:VTIMEZONE
TZID:Europe/Zurich
BEGIN:DAYLIGHT
TZOFFSETFROM:+0100
TZOFFSETTO:+0200
TZNAME:CEST
DTSTART:20220327T010000
END:DAYLIGHT
BEGIN:STANDARD
TZOFFSETFROM:+0200
TZOFFSETTO:+0100
TZNAME:CET
DTSTART:20221030T010000
END:STANDARD
BEGIN:DAYLIGHT
TZOFFSETFROM:+0100
TZOFFSETTO:+0200
TZNAME:CEST
DTSTART:20230326T010000
END:DAYLIGHT
BEGIN:STANDARD
TZOFFSETFROM:+0200
TZOFFSETTO:+0100
TZNAME:CET
DTSTART:20231029T010000
END:STANDARD
BEGIN:DAYLIGHT
TZOFFSETFROM:+0100
TZOFFSETTO:+0200
TZNAME:CEST
DTSTART:20240331T010000
END:DAYLIGHT
BEGIN:STANDARD
TZOFFSETFROM:+0200
TZOFFSETTO:+0100
TZNAME:CET
DTSTART:20241027T010000
END:STANDARD
END:VTIMEZONE
BEGIN:VEVENT
DTSTART;TZID=Europe/Zurich:20230904T193000
DTEND;TZID=Europe/Zurich:20230904T213000
DTSTAMP:20260424T145352
CREATED:20221220T153533Z
LAST-MODIFIED:20230823T201922Z
UID:1244-1693855800-1693863000@transition-schwarzenburgerland.ch
SUMMARY:„Was mich betrifft…“ - Gesprächsreihe zum inneren Wandel (mal an einem Montag) - Thema: SCHEIN
DESCRIPTION:Alle reden übers Wetter? Wir reden über das\, was uns wirklich beschäftigt. Über gemeisterte und noch zu überstehende Krisen\, über unseren ganz eigenen Traum vom guten Leben\, über das\, was uns beseelt und das\, was uns zu schaffen macht. Über Einsamkeit\, Geld\, Selbstzweifel\, Sex\, Freundschaften\, Flow\, Social Media und vieles mehr. \nDie Idee: Orte\, an denen wir glauben\, besser (schöner\, schlauer\, souveräner) sein zu müssen\, als wir sind\, gibt es genug. Lasst uns Räume schaffen\, wo wir sein können\, wie wir wirklich sind. Hosen runter\, rein in die Verletzlichkeit und hin zum Austausch und zur Verbindung! \nZum Thema Schein – Ein paar Gedankenanstösse: \n\nSchein wahren – vorgeben alles sein in Ordnung\n\nder Schein trügt – die Realität ist anders als es auf den ersten Blick aussieht\nmehr Schein als Sein – etwas Grösseres/Besseres vortäuschen\n\nWir sind Eva und Mirjam\, zwei Frauen aus der Transition-Gruppe. Wir freuen uns auf bekannte und neue Gesichter. \nOffen für alle ab 18. Findet ca. alle 6 Wochen statt. \nInfo und Auskunft: Anmeldung bis am Vortag bei ms.s@posteo.ch
URL:https://transition-schwarzenburgerland.ch/agenda/was-mich-betrifft-gespraechsreihe-zum-inneren-wandel-8/
LOCATION:Obereichistrasse 42\, Lanzenhäusern\, 3148
CATEGORIES:Innerer Wandel
ATTACH;FMTTYPE=image/jpeg:https://transition-schwarzenburgerland.ch/wp-content/uploads/2022/09/Wasmichbetrifft1.jpeg
ORGANIZER;CN="Mirjam Schl%C3%A4fli":MAILTO:ms.s(at)posteo.ch
END:VEVENT
BEGIN:VEVENT
DTSTART;VALUE=DATE:20230909
DTEND;VALUE=DATE:20230923
DTSTAMP:20260424T145352
CREATED:20230905T192840Z
LAST-MODIFIED:20250110T132300Z
UID:1729-1694217600-1695427199@transition-schwarzenburgerland.ch
SUMMARY:Berner Nachhaltigkeitstage 2023
DESCRIPTION:Besuche verschiedene Veranstaltungen in Bern zum Thema Nachhaltigkeit.
URL:https://transition-schwarzenburgerland.ch/agenda/berner-nachhaltigkeitstage-2023/
ATTACH;FMTTYPE=image/jpeg:https://transition-schwarzenburgerland.ch/wp-content/uploads/2023/09/598d0237-7b47-4104-b06d-0ba5dece0b96.jpeg
END:VEVENT
BEGIN:VEVENT
DTSTART;TZID=Europe/Zurich:20230913T080000
DTEND;TZID=Europe/Zurich:20230913T170000
DTSTAMP:20260424T145352
CREATED:20230623T094039Z
LAST-MODIFIED:20230905T194656Z
UID:1660-1694592000-1694624400@transition-schwarzenburgerland.ch
SUMMARY:Zämä fürs Naturparadies – Pflegeeinsatz Bannholz
DESCRIPTION:Das Naturparadies Bannholz ist in stetigem Wandel und braucht Pflege. Gemeinsam unterhalten wir an diesem Abend das vielfältige Waldstück und den beliebten Lehrpfad. Dabei lernst du viel Neues über die Natur und geniesst einen regionalen Imbiss. \nDas Bannholz ist ein Waldgebiet am Rande von Schwarzenburg. In den letzten fünf Jahren ist dort ein wahres Naturparadies entstanden. Es blüht in allen Farben\, flattert und summt\, Vögel singen\, Kleinsäuger und Frösche können mit etwas Glück entdeckt werden. Auch Wildbienen sind im Bannholz heimisch. \nJedes Jahr pflegt der Naturpark Gantrisch in Zusammenarbeit mit dem Naturschutzverein Schwarzenburg den stufigen Waldrand\, um die wunderschöne und lehrreiche Artenvielfalt an Pflanzen und Tieren zu erhalten. Unter fachkundiger Anleitung werden Kleinstrukturen\, Laich- und Brutplätze wie die Stockmauer\, Stein- und Asthaufen\, der Teich\, Labyrinthweg und Nesselgarten\, sowie Wege und Böschungen wieder auf Vordermann gebracht. \nBei regelmässig stattfindenden Feierabendeinsätzen werden kleine Unterhaltsarbeiten getätigt. Neben der Arbeit\, wird jeweils ein spannendes Thema wie zum Beispiel die Nacht oder bestimmte Zielartenvielfallt aufgegriffen\, begleitet durch einen kleinen Imbiss. Die jeweiligen Fachpersonen bringen das Thema den Freiwilligen näher und rundet das Programm ab. \nKomm vorbei\, helfe dem Bannholz und lerne gleichzeitig spannendes über die Natur und Landschaft!
URL:https://transition-schwarzenburgerland.ch/agenda/zaemae-fuers-naturparadies-pflegeeinsatz-bannholz-3/
LOCATION:Kirche Wahlern\, Wahlernstrasse 60\, Schwarzenburg\, 3150
CATEGORIES:Biodiversität,Naturdialog
ORGANIZER;CN="Naturpark Gantrisch":MAILTO:info@gantrisch.ch
END:VEVENT
BEGIN:VEVENT
DTSTART;VALUE=DATE:20230915
DTEND;VALUE=DATE:20230916
DTSTAMP:20260424T145352
CREATED:20230905T193354Z
LAST-MODIFIED:20250110T132251Z
UID:1732-1694736000-1694822399@transition-schwarzenburgerland.ch
SUMMARY:PARK(ing) Day 2023
DESCRIPTION:Parkplätze kreativ umgenutzt: Besuche die PARK(ing)s in unserer Nähe\, wie zum Beispiel in Köniz oder Bern.
URL:https://transition-schwarzenburgerland.ch/agenda/parking-day-2023/
END:VEVENT
BEGIN:VEVENT
DTSTART;VALUE=DATE:20230915
DTEND;VALUE=DATE:20230917
DTSTAMP:20260424T145352
CREATED:20230905T191723Z
LAST-MODIFIED:20250110T132245Z
UID:1723-1694736000-1694908799@transition-schwarzenburgerland.ch
SUMMARY:Clean-Up-Day
DESCRIPTION:Störst Du Dich auch an Littering und möchtest etwas dagegen unternehmen? Am Freitag\, 15. und Samstag\, 16. September 2023 hast Du die Gelegenheit dazu.
URL:https://transition-schwarzenburgerland.ch/agenda/clean-up-day-2/
ATTACH;FMTTYPE=image/png:https://transition-schwarzenburgerland.ch/wp-content/uploads/2023/09/cud_logo_f_2023.png
END:VEVENT
BEGIN:VEVENT
DTSTART;TZID=Europe/Zurich:20230917T150000
DTEND;TZID=Europe/Zurich:20230917T200000
DTSTAMP:20260424T145352
CREATED:20230905T193731Z
LAST-MODIFIED:20230906T191938Z
UID:1736-1694962800-1694980800@transition-schwarzenburgerland.ch
SUMMARY:Transition Herbscht Fescht
DESCRIPTION:Wir bräteln ab 15 Uhr im Gemeinschaftsgarten an der Schlossgasse. Alle bringen etwas zum Bräteln für sich und einen Buffetbeitrag zum Teilen mit. \nWir freuen uns auf dein Kommen 🙂
URL:https://transition-schwarzenburgerland.ch/agenda/transition-herbscht-fescht/
LOCATION:Transition Gemeinschaftsgarten\, Schlossgasse 7\, Schwarzenburg\, 3150\, Schweiz
ATTACH;FMTTYPE=image/jpeg:https://transition-schwarzenburgerland.ch/wp-content/uploads/2023/08/26.8.23-nach-einem-Gruppeneinsatz.jpg
END:VEVENT
BEGIN:VEVENT
DTSTART;VALUE=DATE:20230922
DTEND;VALUE=DATE:20230923
DTSTAMP:20260424T145352
CREATED:20230905T192429Z
LAST-MODIFIED:20250110T132236Z
UID:1727-1695340800-1695427199@transition-schwarzenburgerland.ch
SUMMARY:Carfree Shopping Day 2023
DESCRIPTION:Nerven und CO2 sparen\nDer VCS will den Einkaufsverkehr nachhaltiger gestalten. Der Einkaufsverkehr belegt den dritten Platz der Verkehrsverursacher – nach dem Arbeits- und Freizeitverkehr. Dies führt unweigerlich zu mehr Lärm und CO2- und Schadstoffemissionen.\nTransportieren auch Sie Ihre Einkäufe umweltschonend nach Hause. Wie? Zu Fuss\, mit dem Velo\, dem Trolley\, der Schubkarre\, mit dem Rucksack…
URL:https://transition-schwarzenburgerland.ch/agenda/carfree-shopping-day-2023/
END:VEVENT
BEGIN:VEVENT
DTSTART;TZID=Europe/Zurich:20230923T140000
DTEND;TZID=Europe/Zurich:20230923T160000
DTSTAMP:20260424T145352
CREATED:20230905T194439Z
LAST-MODIFIED:20250110T132229Z
UID:1738-1695477600-1695484800@transition-schwarzenburgerland.ch
SUMMARY:Klimademo - Banner basteln
DESCRIPTION:Wir bereiten uns vor! \nZusammen werden wir am 30.09.23 von Schwarzenburg nach Bern an die Klimademo fahren. Gerne Teilen wir unsere Forderungen und Wünsche allen mit und basteln deshalb einige Banner. \n„Ufe mit dä Klimaziu\, abe mit em CO2“ – was forderst du?
URL:https://transition-schwarzenburgerland.ch/agenda/klimademo-banner-basteln/
LOCATION:Andrea Lörwald\, Schlossgasse 10\, Schwarzenburg\, 3150\, Schweiz
CATEGORIES:Klima
ATTACH;FMTTYPE=image/jpeg:https://transition-schwarzenburgerland.ch/wp-content/uploads/2023/03/Klimaallianz.jpg
END:VEVENT
BEGIN:VEVENT
DTSTART;TZID=Europe/Zurich:20230930T140000
DTEND;TZID=Europe/Zurich:20230930T190000
DTSTAMP:20260424T145352
CREATED:20230305T202718Z
LAST-MODIFIED:20230906T192231Z
UID:1414-1696082400-1696100400@transition-schwarzenburgerland.ch
SUMMARY:Klimademo
DESCRIPTION:Vier Jahre nach der grossen Klimademo in Bern organisiert die Klimaallianz wieder eine zentrale Demonstration in Bern. \nWir reisen zusammen nach Bern und nehmen den Zug um 13.18 Uhr ab Schwarzenburg. \n„Ufe mit de Klimaziu\, abe mit em CO2“!
URL:https://transition-schwarzenburgerland.ch/agenda/klimademo/
LOCATION:Bundesplatz Bern\, Schweiz
CATEGORIES:Klima
ATTACH;FMTTYPE=image/jpeg:https://transition-schwarzenburgerland.ch/wp-content/uploads/2023/03/Klimaallianz.jpg
END:VEVENT
END:VCALENDAR