BEGIN:VCALENDAR
VERSION:2.0
PRODID:-//Transition Schwarzenburgerland - ECPv6.15.20//NONSGML v1.0//EN
CALSCALE:GREGORIAN
METHOD:PUBLISH
X-WR-CALNAME:Transition Schwarzenburgerland
X-ORIGINAL-URL:https://transition-schwarzenburgerland.ch
X-WR-CALDESC:Veranstaltungen für Transition Schwarzenburgerland
REFRESH-INTERVAL;VALUE=DURATION:PT1H
X-Robots-Tag:noindex
X-PUBLISHED-TTL:PT1H
BEGIN:VTIMEZONE
TZID:Europe/Zurich
BEGIN:DAYLIGHT
TZOFFSETFROM:+0100
TZOFFSETTO:+0200
TZNAME:CEST
DTSTART:20220327T010000
END:DAYLIGHT
BEGIN:STANDARD
TZOFFSETFROM:+0200
TZOFFSETTO:+0100
TZNAME:CET
DTSTART:20221030T010000
END:STANDARD
BEGIN:DAYLIGHT
TZOFFSETFROM:+0100
TZOFFSETTO:+0200
TZNAME:CEST
DTSTART:20230326T010000
END:DAYLIGHT
BEGIN:STANDARD
TZOFFSETFROM:+0200
TZOFFSETTO:+0100
TZNAME:CET
DTSTART:20231029T010000
END:STANDARD
BEGIN:DAYLIGHT
TZOFFSETFROM:+0100
TZOFFSETTO:+0200
TZNAME:CEST
DTSTART:20240331T010000
END:DAYLIGHT
BEGIN:STANDARD
TZOFFSETFROM:+0200
TZOFFSETTO:+0100
TZNAME:CET
DTSTART:20241027T010000
END:STANDARD
END:VTIMEZONE
BEGIN:VEVENT
DTSTART;TZID=Europe/Zurich:20230603T100000
DTEND;TZID=Europe/Zurich:20230603T150000
DTSTAMP:20260425T022521
CREATED:20230202T193410Z
LAST-MODIFIED:20240202T163159Z
UID:1372-1685786400-1685804400@transition-schwarzenburgerland.ch
SUMMARY:Repair-Café Schwarzenburg
DESCRIPTION:Reparieren statt wegwerfen!\nErstes Repair Café in Schwarzenburg lanciert\nAm 3. Juni 2023 findet die erste Ausgabe des Repair Café Schwarzenburg statt. Egal ob Spielzeug\, Mixer oder der Lieblingspullover: die Besucher sind herzlich eingeladen\, defekten Gegenständen mit Hilfe von Reparaturexperten an der Reparatur-Veranstaltung neues Leben einzuhauchen. In der Aula vom OSZ wird genäht\, gebohrt und gelötet. Die Reparaturdienstleistungen sind kostenlos\, bezahlt werden müssen lediglich die Ersatzteile.
URL:https://transition-schwarzenburgerland.ch/agenda/repair-cafe-schwarzenburg/
LOCATION:Aula OSZ\, Einschlag 7\, Schwarzenburg\, 3150\, Schweiz
CATEGORIES:Konsum,Lokale Kreisläufe,Sharing Economy,Zusammenleben
ATTACH;FMTTYPE=image/jpeg:https://transition-schwarzenburgerland.ch/wp-content/uploads/2023/02/2302_Logo_RC_Schwarzenburg-klein-e1678704174917.jpg
ORGANIZER;CN="Transition Schwarzenburgerland":MAILTO:transition.schwarzenburgerland@gmail.com
END:VEVENT
BEGIN:VEVENT
DTSTART;TZID=Europe/Zurich:20230604T100000
DTEND;TZID=Europe/Zurich:20230604T120000
DTSTAMP:20260425T022521
CREATED:20230202T191744Z
LAST-MODIFIED:20230202T191744Z
UID:1368-1685872800-1685880000@transition-schwarzenburgerland.ch
SUMMARY:Sunday Dance - freies tanzen für jung und alt
DESCRIPTION:Wir freuen uns auf das gemeinsame tanzen! \nMitbringen: Bequeme Kleidung\, Getränke\, 10.- Unkostenbeitrag \n 
URL:https://transition-schwarzenburgerland.ch/agenda/sunday-dance-freies-tanzen-fuer-jung-und-alt-9/
LOCATION:Kirchgemeindehaus\, Junkerngasse 13\, Schwarzenburg\, 3150\, Schweiz
CATEGORIES:Innerer Wandel,Kultur,Zusammenleben
ATTACH;FMTTYPE=image/jpeg:https://transition-schwarzenburgerland.ch/wp-content/uploads/2023/02/sunda-dance-vernetzung-gantrisch-scaled.jpg
END:VEVENT
BEGIN:VEVENT
DTSTART;TZID=Europe/Zurich:20230609T193000
DTEND;TZID=Europe/Zurich:20230609T213000
DTSTAMP:20260425T022521
CREATED:20221220T150033Z
LAST-MODIFIED:20230531T202907Z
UID:1238-1686339000-1686346200@transition-schwarzenburgerland.ch
SUMMARY:„Was mich betrifft…“ - Gesprächsreihe zum inneren Wandel - Thema: Motivation
DESCRIPTION:Alle reden übers Wetter? Wir reden über das\, was uns wirklich beschäftigt. Über gemeisterte und noch zu überstehende Krisen\, über unseren ganz eigenen Traum vom guten Leben\, über das\, was uns beseelt und das\, was uns zu schaffen macht. Über Einsamkeit\, Geld\, Selbstzweifel\, Sex\, Freundschaften\, Flow\, Social Media und vieles mehr. \nDie Idee: Orte\, an denen wir glauben\, besser (schöner\, schlauer\, souveräner) sein zu müssen\, als wir sind\, gibt es genug. Lasst uns Räume schaffen\, wo wir sein können\, wie wir wirklich sind. Hosen runter\, rein in die Verletzlichkeit und hin zum Austausch und zur Verbindung! \nZum Thema Motivation – Ein paar Stichworte: \nWillenskraft\, Selbstdisziplin\, Aufschieben\, Demotivation\, Durchhaltevermögen\, Innerer Schweinehund\, Leistung\, Qualität\, Freude\n \nWir sind Eva und Mirjam\, zwei Frauen aus der Transition-Gruppe. Wir freuen uns auf bekannte und neue Gesichter. \nOffen für alle ab 18. Findet ca. alle 6 Wochen statt. \nInfo und Auskunft: Anmeldung bis am Vortag an Mirjam: ms.s(at)posteo.ch
URL:https://transition-schwarzenburgerland.ch/agenda/was-mich-betrifft-gespraechsreihe-zum-inneren-wandel-6/
LOCATION:Obereichistrasse 42\, Lanzenhäusern\, 3148
CATEGORIES:Innerer Wandel
ATTACH;FMTTYPE=image/jpeg:https://transition-schwarzenburgerland.ch/wp-content/uploads/2022/09/Wasmichbetrifft1.jpeg
ORGANIZER;CN="Mirjam Schl%C3%A4fli":MAILTO:ms.s(at)posteo.ch
END:VEVENT
BEGIN:VEVENT
DTSTART;TZID=Europe/Zurich:20230618T100000
DTEND;TZID=Europe/Zurich:20230618T120000
DTSTAMP:20260425T022521
CREATED:20230202T191923Z
LAST-MODIFIED:20230430T103637Z
UID:1370-1687082400-1687089600@transition-schwarzenburgerland.ch
SUMMARY:Sunday Dance - freies tanzen für jung und alt
DESCRIPTION:Wir freuen uns auf das gemeinsame tanzen! \nMitbringen: Bequeme Kleidung\, Getränke\, 10.- Unkostenbeitrag \n 
URL:https://transition-schwarzenburgerland.ch/agenda/sunday-dance-freies-tanzen-fuer-jung-und-alt-10/
LOCATION:Kirchgemeindehaus\, Junkerngasse 13\, Schwarzenburg\, 3150\, Schweiz
CATEGORIES:Innerer Wandel,Kultur,Zusammenleben
ATTACH;FMTTYPE=image/jpeg:https://transition-schwarzenburgerland.ch/wp-content/uploads/2023/02/sunda-dance-vernetzung-gantrisch-scaled.jpg
END:VEVENT
BEGIN:VEVENT
DTSTART;VALUE=DATE:20230622
DTEND;VALUE=DATE:20230628
DTSTAMP:20260425T022521
CREATED:20220508T193221Z
LAST-MODIFIED:20230612T084936Z
UID:750-1687392000-1687910399@transition-schwarzenburgerland.ch
SUMMARY:Sounding Soil - Dem Boden zuhören
DESCRIPTION:Kann man Gras wachsen hören? Wie hört es sich an\, wenn der Regenwurm mit dem Springschwanz kommuniziert? Wie unterschiedlich tönt ein Komposthaufen\, ein Waldboden\, eine Wiese? \nEines der begehrten „Sounding-Soil“-Bodenlausch- und Aufnahmegeräte macht Station in Niedereichi/Lanzenhäusern und kann vom 22. Juni bis 27. Juni ausgeliehen werden.  \nMit den „Sounding Soil“-Bodensensoren werden für dich Leben und Prozesse im Boden hör- und erlebbar. Neben Gekrabbel und Gekrieche sind auch Kommunikationslaute und Fressgeräusche der Bodentiere zu hören. Ein einmaliges Erlebnis. \nSounding Soil ist ein nationales Forschungs- und Kunstprojekt\,  in dem die Akustik von Bodenökosystemen untersucht wird – und so zur Bedeutung von gesunden\, lebendigen Bäden sensibilisieren möchte. \nFür wen: Für alle\, speziell auch für Kinder geeignet. \nBitte für Reservation Kontakt aufnehmen per SMS oder whatsapp unter 078 896 62 67 \nWeitere Infos unter www.soundingsoil.ch\, Kurzvideo zu Sounding Soil \, Einstein-Sendung zu Sounding Soil – Ökoakustik
URL:https://transition-schwarzenburgerland.ch/agenda/sounding-soil-dem-boden-zuhoeren/
LOCATION:Permakultur-Garten Niedereichiweg 2 Nord\, Niedereichi 48\, Lanzenhäusern\, Schweiz\, 3148\, Schweiz
CATEGORIES:Garten,Klima,Naturdialog
ATTACH;FMTTYPE=image/png:https://transition-schwarzenburgerland.ch/wp-content/uploads/2022/05/Sounding-Soil.png
ORGANIZER;CN="Remo Ryser":MAILTO:info(at)von-wegen.ch
END:VEVENT
BEGIN:VEVENT
DTSTART;TZID=Europe/Zurich:20230624T090000
DTEND;TZID=Europe/Zurich:20230624T170000
DTSTAMP:20260425T022521
CREATED:20230522T132210Z
LAST-MODIFIED:20230522T132255Z
UID:1582-1687597200-1687626000@transition-schwarzenburgerland.ch
SUMMARY:8. Garagen Flohmarkt Schwarzenburg
DESCRIPTION:Nach dem grossen Erfolg der letzten 7 Jahre starten wir den 8. Garagen Flohmarkt.\n \nÜber 25 Stände und offene Garagen bieten alles an\, was noch gebraucht werden kann und Freude bereitet. Praktisches\, Kurioses\, Antikes\, Schräges und Schäbiges das chic werden kann….\n \nDamit möchten wir auch etwas gegen die Wegwerfgesellschaft und die Kurzlebigkeit der Dinge tun. Wir schonen dabei Ressourcen und Umwelt und schenken neues Leben!\n \nDas spezielle Ambiente\, in diesem in sich geschlossenen Innenhof mit 18 Garagen\, muss mann fühlen. Man trifft sich\, tauscht aus und freut sich bei Musik\, Speis und Trank.\n \nGratis Kinder Flomi. Kinder dürfen auf ihrer mitgebrachten Decke\, ihrem Tischli selber ihre Spielsachen verkaufen.\n \nMöchtest du selber verkaufen? Reservationen:  Margrit Dietrich 079 601 78 61 mail: mirage6@gmx.ch
URL:https://transition-schwarzenburgerland.ch/agenda/8-garagen-flohmarkt-schwarzenburg/
LOCATION:Bühlhof\, Milkenstrasse 4\, Schwarzenburg\, 3150
CATEGORIES:Konsum,Lokale Kreisläufe,Sharing Economy
ATTACH;FMTTYPE=image/jpeg:https://transition-schwarzenburgerland.ch/wp-content/uploads/2023/05/Flyer-Garagen-Flohmarkt-2023-e1684761697205.jpg
ORGANIZER;CN="Margrit Dietrich":MAILTO:mirage61@gmx.ch
END:VEVENT
BEGIN:VEVENT
DTSTART;TZID=Europe/Zurich:20230624T093000
DTEND;TZID=Europe/Zurich:20230624T180000
DTSTAMP:20260425T022521
CREATED:20230612T083618Z
LAST-MODIFIED:20230612T083959Z
UID:1607-1687599000-1687629600@transition-schwarzenburgerland.ch
SUMMARY:Outdoor-Workshop zu Work-that-reconnects: Erdverbunden wirken in unsicheren Zeiten
DESCRIPTION:Finde mehr heraus\, worin du und dein Engagement für eine schönere Welt wurzeln.\n \nEine Tagesreise durch die «Work-that-Reconnects»-Spirale von Joanna Macy\,\nmit optionaler Übernachtung unter dem Sternenhimmel \n\nAuf welchem Nährboden gedeiht dein Engagement für eine schönere Welt?\nWas trägt dich in diesen Zeiten\, in denen – gefühlt mehr denn je – alles auf beunruhigende Weise aus der Balance gerät?\n\nIn diesem Outdoor-Tag erkunden wir sowohl das\, was uns in diesen ausserordentlichen Zeiten Halt gibt\, wie auch das\, was uns aufwühlt und schmerzt. Daraus schöpfen wir neue Perspektiven\, Kraft und Bestätigung für beherztes Handeln. Dort wo es uns gerade besonders braucht und wir einen Unterschied machen können. \nWir orientieren uns dabei an «Work that Reconnects» von Joanna Macy\, angereichert aus einem reichen Korb mit weiteren Zutaten wie Naturdialog\, Naturachtsamkeit\, Systemtheorie\, körperorientierten Ansätzen und mehr. \nAlle weiteren Infos findest du auf dem Flyer \nGastgebende:  \nMiriam Lily von Känel (sie/ihr)\nselbstständige Psychotherapeutin\, ungenierte Tänzerin\, liebendes Muttertier\, engagiert sich bei Psychologists for Future\nund Transition Bern \nRemo Ryser (er/ihm)\nPsychologe\, Naturtherapeut\, Permakultur-Lehrling\, Kompostist; wirkt mit bei Transition Schwarzenburgland\, Psychologists for Future und in der Naturdialog-Bewegung \nAnmeldung gerne bis 17. Juni an miriam.vonkaenel(at)gmx.ch oder per Signal / whatsapp an 078 896 62 67
URL:https://transition-schwarzenburgerland.ch/agenda/outdoor-workshop-zu-work-that-reconnects-erdverbunden-wirken-in-unsicheren-zeiten/
LOCATION:An der Sense / Am Schwarzwasser\, Schwarzwasserbrücke
CATEGORIES:Innerer Wandel,Naturdialog,Workshop
ATTACH;FMTTYPE=image/jpeg:https://transition-schwarzenburgerland.ch/wp-content/uploads/2023/06/Wurzelbild.jpg
ORGANIZER;CN="Remo Ryser":MAILTO:info(at)von-wegen.ch
END:VEVENT
BEGIN:VEVENT
DTSTART;TZID=Europe/Zurich:20230630T183000
DTEND;TZID=Europe/Zurich:20230630T213000
DTSTAMP:20260425T022521
CREATED:20230605T154434Z
LAST-MODIFIED:20230605T155021Z
UID:1600-1688149800-1688160600@transition-schwarzenburgerland.ch
SUMMARY:Infoanlass - Solaranlagen finanzieren
DESCRIPTION:Öffentlicher Informationsanlass über unterschiedliche Wege\, den Traum von der eigenen Solaranlage zu realisieren!\nAm diesjährigen Anlass erklären Experten verschiedene Modelle zur Finanzierung einer Solaranlage. Ob im Selbstbau\, über ein Genossenschaftsmodell oder über klassische Finanzierungsmittel – die Experten informieren dich! \nEs ist auch die Gelegenheit den Energie-Partner zu finden\, der dir zur Realisierung verhilft: \n\nhast du ein Dach aber nicht genug Kapital? Tausche dich mit anderen Teilnehmer aus\, die dir bei der Finanzierung unterstützen können.\nhast du keine eigene Fläche aber möchtest in die Energiewende investieren? Finde Eigentümer\, die ein Dach zu Verfügung stellen.\n\nFlyer Infoanlass Solaranlage finanzieren
URL:https://transition-schwarzenburgerland.ch/agenda/infoanlass-solaranlagen-finanzieren/
LOCATION:Aula OSZ\, Einschlag 7\, Schwarzenburg\, 3150\, Schweiz
CATEGORIES:Energie
ATTACH;FMTTYPE=image/jpeg:https://transition-schwarzenburgerland.ch/wp-content/uploads/2023/06/Info-Anlass-PV-Anlage-finanzieren.jpg
ORGANIZER;CN="Naturpark Gantrisch":MAILTO:info@gantrisch.ch
END:VEVENT
END:VCALENDAR