BEGIN:VCALENDAR
VERSION:2.0
PRODID:-//Transition Schwarzenburgerland - ECPv6.15.20//NONSGML v1.0//EN
CALSCALE:GREGORIAN
METHOD:PUBLISH
X-ORIGINAL-URL:https://transition-schwarzenburgerland.ch
X-WR-CALDESC:Veranstaltungen für Transition Schwarzenburgerland
REFRESH-INTERVAL;VALUE=DURATION:PT1H
X-Robots-Tag:noindex
X-PUBLISHED-TTL:PT1H
BEGIN:VTIMEZONE
TZID:Europe/Zurich
BEGIN:DAYLIGHT
TZOFFSETFROM:+0100
TZOFFSETTO:+0200
TZNAME:CEST
DTSTART:20220327T010000
END:DAYLIGHT
BEGIN:STANDARD
TZOFFSETFROM:+0200
TZOFFSETTO:+0100
TZNAME:CET
DTSTART:20221030T010000
END:STANDARD
BEGIN:DAYLIGHT
TZOFFSETFROM:+0100
TZOFFSETTO:+0200
TZNAME:CEST
DTSTART:20230326T010000
END:DAYLIGHT
BEGIN:STANDARD
TZOFFSETFROM:+0200
TZOFFSETTO:+0100
TZNAME:CET
DTSTART:20231029T010000
END:STANDARD
BEGIN:DAYLIGHT
TZOFFSETFROM:+0100
TZOFFSETTO:+0200
TZNAME:CEST
DTSTART:20240331T010000
END:DAYLIGHT
BEGIN:STANDARD
TZOFFSETFROM:+0200
TZOFFSETTO:+0100
TZNAME:CET
DTSTART:20241027T010000
END:STANDARD
END:VTIMEZONE
BEGIN:VEVENT
DTSTART;TZID=Europe/Zurich:20230507T100000
DTEND;TZID=Europe/Zurich:20230507T120000
DTSTAMP:20260425T035415
CREATED:20230202T191345Z
LAST-MODIFIED:20230202T194007Z
UID:1364-1683453600-1683460800@transition-schwarzenburgerland.ch
SUMMARY:Sunday Dance - freies tanzen für jung und alt
DESCRIPTION:Wir freuen uns auf das gemeinsame tanzen! \nMitbringen: Bequeme Kleidung\, Getränke\, 10.- Unkostenbeitrag \n 
URL:https://transition-schwarzenburgerland.ch/agenda/sunday-dance-freies-tanzen-fuer-jung-und-alt-7/
LOCATION:Kirchgemeindehaus\, Junkerngasse 13\, Schwarzenburg\, 3150\, Schweiz
CATEGORIES:Innerer Wandel,Kultur,Zusammenleben
ATTACH;FMTTYPE=image/jpeg:https://transition-schwarzenburgerland.ch/wp-content/uploads/2023/02/sunda-dance-vernetzung-gantrisch-scaled.jpg
END:VEVENT
BEGIN:VEVENT
DTSTART;TZID=Europe/Zurich:20230512T200000
DTEND;TZID=Europe/Zurich:20230512T213000
DTSTAMP:20260425T035415
CREATED:20230424T182223Z
LAST-MODIFIED:20250110T132325Z
UID:1507-1683921600-1683927000@transition-schwarzenburgerland.ch
SUMMARY:Filme für die Erde Pop-up Kino
DESCRIPTION:Pop-up Kino zum Thema klimafreundliche Mobilität & Städte \nAm Freitag\, den 12. Mai 2023\, lädt Filme für die Erde zusammen mit Transition Schwarzenburgerland im Generationehuus Schwarzenburg zum Pop-up Kino ein. Das Thema: Wie gelingt eine klima- & menschenfreundliche Stadtplanung & Mobilität? Gemeinsam mit engagierten Mitveranstalter*innen zeigen wir die Doku „Metropolen im Wandel – Wie gelingt die Verkehrswende?“ in der ganzen Deutschschweiz. Die Doku zeigt visionäre Beispiele & Konzepte aus europäischen Städten – und motiviert zum Nachmachen. \nMit dem Anlass möchten wir die Diskussion über zukunftsfähige Städte & Mobilität anregen – und gleichzeitig ein einmaliges Filmerlebnis bieten. \nDas Pop-up Kino ist kostenlos und offen für alle Interessierten.\nAlle Infos und Pop-up Kinos findest du unter: www.pop-up.filmefuerdieerde.org \nDas Pop-up Kino wird ermöglicht durch epeaswitzerland gmbh und VCS Verkehrs-Club der Schweiz. \n#filmefürdieerde \nIm Anschluss an den Film sind alle willkommen die Diskussion im Beizli egge9 fortzuführen! \nFlyer
URL:https://transition-schwarzenburgerland.ch/agenda/filme-fuer-die-erde-pop-up-kino-2/
LOCATION:Generationehuus\, Bernstrasse 9\, Schwarzenburg\, BE\, 3150\, Schweiz
CATEGORIES:Klima,Verkehr
ATTACH;FMTTYPE=image/png:https://transition-schwarzenburgerland.ch/wp-content/uploads/2023/04/Metropolen_in_Bewegung-e1682360959461.png
ORGANIZER;CN="Transition Schwarzenburgerland":MAILTO:transition.schwarzenburgerland@gmail.com
END:VEVENT
BEGIN:VEVENT
DTSTART;TZID=Europe/Zurich:20230513T090000
DTEND;TZID=Europe/Zurich:20230513T170000
DTSTAMP:20260425T035415
CREATED:20230305T135127Z
LAST-MODIFIED:20230430T103651Z
UID:1410-1683968400-1683997200@transition-schwarzenburgerland.ch
SUMMARY:Permakultur Einführungskurs
DESCRIPTION:Permakultur ist eine Planungsmethode\, die uns dazu befähigt\, lokale\nund globale Herausforderungen anzupacken. Permakultur ist auch ein\ntolles Netzwerk\, bestehend aus unterschiedlichsten Menschen.\nHast du Lust\, die Ideen und Ansätze der Permakultur kennenzulernen?\nDas GRÜNIG Seiliacher bietet dir über zwei Tage einen bunten Mix aus\nspielerischem Lernen und Gartenpraxis!
URL:https://transition-schwarzenburgerland.ch/agenda/permakultur-einfuehrungskurs-2/
LOCATION:Grünig Seiliacher\, Kirchenthurnen
CATEGORIES:Biodiversität,Garten
ATTACH;FMTTYPE=image/jpeg:https://transition-schwarzenburgerland.ch/wp-content/uploads/2023/03/permakultur.jpg
ORGANIZER;CN="Naturpark Gantrisch":MAILTO:info@gantrisch.ch
END:VEVENT
BEGIN:VEVENT
DTSTART;TZID=Europe/Zurich:20230521T100000
DTEND;TZID=Europe/Zurich:20230521T120000
DTSTAMP:20260425T035415
CREATED:20230202T191627Z
LAST-MODIFIED:20230430T103646Z
UID:1366-1684663200-1684670400@transition-schwarzenburgerland.ch
SUMMARY:Sunday Dance - freies tanzen für jung und alt
DESCRIPTION:Wir freuen uns auf das gemeinsame tanzen! \nMitbringen: Bequeme Kleidung\, Getränke\, 10.- Unkostenbeitrag \n 
URL:https://transition-schwarzenburgerland.ch/agenda/sunday-dance-freies-tanzen-fuer-jung-und-alt-8/
LOCATION:Kirchgemeindehaus\, Junkerngasse 13\, Schwarzenburg\, 3150\, Schweiz
CATEGORIES:Innerer Wandel,Kultur,Zusammenleben
ATTACH;FMTTYPE=image/jpeg:https://transition-schwarzenburgerland.ch/wp-content/uploads/2023/02/sunda-dance-vernetzung-gantrisch-scaled.jpg
END:VEVENT
END:VCALENDAR