BEGIN:VCALENDAR
VERSION:2.0
PRODID:-//Transition Schwarzenburgerland - ECPv6.15.20//NONSGML v1.0//EN
CALSCALE:GREGORIAN
METHOD:PUBLISH
X-ORIGINAL-URL:https://transition-schwarzenburgerland.ch
X-WR-CALDESC:Veranstaltungen für Transition Schwarzenburgerland
REFRESH-INTERVAL;VALUE=DURATION:PT1H
X-Robots-Tag:noindex
X-PUBLISHED-TTL:PT1H
BEGIN:VTIMEZONE
TZID:Europe/Zurich
BEGIN:DAYLIGHT
TZOFFSETFROM:+0100
TZOFFSETTO:+0200
TZNAME:CEST
DTSTART:20220327T010000
END:DAYLIGHT
BEGIN:STANDARD
TZOFFSETFROM:+0200
TZOFFSETTO:+0100
TZNAME:CET
DTSTART:20221030T010000
END:STANDARD
BEGIN:DAYLIGHT
TZOFFSETFROM:+0100
TZOFFSETTO:+0200
TZNAME:CEST
DTSTART:20230326T010000
END:DAYLIGHT
BEGIN:STANDARD
TZOFFSETFROM:+0200
TZOFFSETTO:+0100
TZNAME:CET
DTSTART:20231029T010000
END:STANDARD
BEGIN:DAYLIGHT
TZOFFSETFROM:+0100
TZOFFSETTO:+0200
TZNAME:CEST
DTSTART:20240331T010000
END:DAYLIGHT
BEGIN:STANDARD
TZOFFSETFROM:+0200
TZOFFSETTO:+0100
TZNAME:CET
DTSTART:20241027T010000
END:STANDARD
END:VTIMEZONE
BEGIN:VEVENT
DTSTART;TZID=Europe/Zurich:20230304T170000
DTEND;TZID=Europe/Zurich:20230304T183000
DTSTAMP:20260425T145038
CREATED:20230203T150659Z
LAST-MODIFIED:20230430T103919Z
UID:1380-1677949200-1677954600@transition-schwarzenburgerland.ch
SUMMARY:Einführung in Meditation\, Atem- und Körperarbeit sowie Austausch und Reflexion
DESCRIPTION:Andreas Schertenleib und Christophe Frei von Herzwärts\nstellen ihre Arbeit vor: \n\nEine Stunde erleben – eintauchen in die Arbeit\nEine halbe Stunde Austausch darüber/Vorstellen der Arbeit in der Runde
URL:https://transition-schwarzenburgerland.ch/agenda/einfuehrung-in-meditation-atem-und-koerperarbeit-sowie-austausch-und-reflexion/
LOCATION:Sigristenhaus\, Wahlernstrass 53\, Schwarzenburg\, 3150\, Schweiz
CATEGORIES:Energie,Innerer Wandel,Workshop
ATTACH;FMTTYPE=image/jpeg:https://transition-schwarzenburgerland.ch/wp-content/uploads/2023/02/herzwaerts.jpg
ORGANIZER;CN="Transition Schwarzenburgerland":MAILTO:transition.schwarzenburgerland@gmail.com
END:VEVENT
BEGIN:VEVENT
DTSTART;TZID=Europe/Zurich:20230305T100000
DTEND;TZID=Europe/Zurich:20230305T120000
DTSTAMP:20260425T145038
CREATED:20230202T190657Z
LAST-MODIFIED:20230430T103847Z
UID:1356-1678010400-1678017600@transition-schwarzenburgerland.ch
SUMMARY:Sunday Dance - freies tanzen für jung und alt
DESCRIPTION:Wir freuen uns auf das gemeinsame tanzen! \nMitbringen: Bequeme Kleidung\, Getränke\, 10.- Unkostenbeitrag \n 
URL:https://transition-schwarzenburgerland.ch/agenda/sunday-dance-freies-tanzen-fuer-jung-und-alt-3/
LOCATION:Sääli\, Bahnhofstrasse 4\, Schwarzenburg\, 3150
CATEGORIES:Innerer Wandel,Kultur,Zusammenleben
ATTACH;FMTTYPE=image/jpeg:https://transition-schwarzenburgerland.ch/wp-content/uploads/2023/02/sunda-dance-vernetzung-gantrisch-scaled.jpg
END:VEVENT
BEGIN:VEVENT
DTSTART;TZID=Europe/Zurich:20230310T160000
DTEND;TZID=Europe/Zurich:20230310T180000
DTSTAMP:20260425T145038
CREATED:20230305T132028Z
LAST-MODIFIED:20230430T103842Z
UID:1402-1678464000-1678471200@transition-schwarzenburgerland.ch
SUMMARY:Austauschtreffen für an Freiwilligenarbeit interessierte Menschen
DESCRIPTION:Seit Anfang Jahr hat der Kanton Bern eine Kollektivunterkunft mit bis zu 200 Geflüchteten im ehemaligen Berggasthof Gurnigelbad eingerichtet. \nEs sind Menschen\, die bereits eine erste Phase des Asylverfahrens bewältigt haben und mit hoher Wahrscheinlichkeit in der Schweiz bleiben. \nIm Gurnigelbad sind Frauen\, Männer und Kinder untergebracht. Damit diese Menschen in der Schweiz Fuss fassen können\, brauchen sie eine gute Unterstützung durch die Zivilgesellschaft. \nLassen wir diese Menschen nicht allein! \nWas können wir tun?\n• Lernunterstützung in Deutsch anbieten\n• Fahrdienste ermöglichen\n• Begegnungsorte schaffen (Café und Kuchen)\n• Unterstützung bei der Stellensuche (Praktika und Ausbildung)\n• Oder haben Sie eigene Ideen? \nArbeiten Sie in einem Team von Freiwilligen mit\, ganz nach Ihren Möglichkeiten und Wünschen! Wir freuen uns auf Ihr Kommen! \nKoordinatorin Marianne Windler:\nHandy: 079 532 06 36 / Mail: m.windler@gmx.ch\n*Sie dürfen gerne etwas für das kleine Buffet mitbringen.
URL:https://transition-schwarzenburgerland.ch/agenda/austauschtreffen-fuer-an-freiwilligenarbeit-interessierte-menschen/
CATEGORIES:Sozial,Zusammenleben
ATTACH;FMTTYPE=image/png:https://transition-schwarzenburgerland.ch/wp-content/uploads/2023/03/Gurnigelbad-BZ.png
ORGANIZER;CN="Fl%C3%BCchtlingsarbeit Riggisberg":MAILTO:m.windler@gmx.ch
END:VEVENT
BEGIN:VEVENT
DTSTART;TZID=Europe/Zurich:20230317T193000
DTEND;TZID=Europe/Zurich:20230317T213000
DTSTAMP:20260425T145038
CREATED:20221220T143145Z
LAST-MODIFIED:20230430T103833Z
UID:1233-1679081400-1679088600@transition-schwarzenburgerland.ch
SUMMARY:„Was mich betrifft…“ - Gesprächsreihe zum inneren Wandel - Thema: Glück
DESCRIPTION:Alle reden übers Wetter? Wir reden über das\, was uns wirklich beschäftigt. Über gemeisterte und noch zu überstehende Krisen\, über unseren ganz eigenen Traum vom guten Leben\, über das\, was uns beseelt und das\, was uns zu schaffen macht. Über Einsamkeit\, Geld\, Selbstzweifel\, Sex\, Freundschaften\, Flow\, Social Media und vieles mehr. \nDie Idee: Orte\, an denen wir glauben\, besser (schöner\, schlauer\, souveräner) sein zu müssen\, als wir sind\, gibt es genug. Lasst uns Räume schaffen\, wo wir sein können\, wie wir wirklich sind. Hosen runter\, rein in die Verletzlichkeit und hin zum Austausch und zur Verbindung! \nThema am 17.03: Glück \n\nWas bedeutet für dich Glück?\nGibt es ein Glück oder verschiedene?\nWann empfindest du Glück?\nBist du glücklich?\nIst Glück erstrebenswert?\n\nWir sind Eva und Mirjam\, zwei Frauen aus der Transition-Gruppe. Wir freuen uns auf bekannte und neue Gesichter. \nOffen für alle ab 18. Findet ca. alle 6 Wochen statt. \nInfo und Auskunft: Anmeldung bis am Vortag an ms.s(at)posteo.ch
URL:https://transition-schwarzenburgerland.ch/agenda/was-mich-betrifft-gespraechsreihe-zum-inneren-wandel-4/
LOCATION:Obereichistrasse 42\, Lanzenhäusern\, 3148
CATEGORIES:Innerer Wandel
ATTACH;FMTTYPE=image/jpeg:https://transition-schwarzenburgerland.ch/wp-content/uploads/2022/09/Wasmichbetrifft1.jpeg
ORGANIZER;CN="Mirjam Schl%C3%A4fli":MAILTO:ms.s(at)posteo.ch
END:VEVENT
BEGIN:VEVENT
DTSTART;TZID=Europe/Zurich:20230318T140000
DTEND;TZID=Europe/Zurich:20230319T170000
DTSTAMP:20260425T145038
CREATED:20220523T161141Z
LAST-MODIFIED:20230305T192419Z
UID:854-1679148000-1679245200@transition-schwarzenburgerland.ch
SUMMARY:Geburt eines Urklangs - Trommelbaukurs
DESCRIPTION:Man sagt\, um eine Trommel ins Leben zu rufen\, müssen zwei Wesen ihr Leben lassen: ein Tier für die Haut und ein Baum für den Ring. \nIn diesem Kurs gebärst Du ganz bewusst Deine eigene Trommel – wählst eine Haut\, wählst einen Ring\, wählst mit Deinen Fingern Deinen eigenen Rhythmus – und es entsteht eine Trommel\, die genau Dir entspricht. \nWeitere Infos auf der Veranstaltungswebsite hier \n 
URL:https://transition-schwarzenburgerland.ch/agenda/geburt-eines-urklangs-trommelbaukurs/
LOCATION:Dojo im Chraftplatz\, Stockmatt 49\, Lanzenhäusern\, 3148
CATEGORIES:Innerer Wandel,Naturdialog,Workshop
ATTACH;FMTTYPE=image/jpeg:https://transition-schwarzenburgerland.ch/wp-content/uploads/2022/05/20210828_162540-scaled-e1654897495942.jpg
ORGANIZER;CN="Judith Anna Mori":MAILTO:judith@wegbegleitung-tierundmensch.ch
END:VEVENT
BEGIN:VEVENT
DTSTART;TZID=Europe/Zurich:20230319T100000
DTEND;TZID=Europe/Zurich:20230319T120000
DTSTAMP:20260425T145038
CREATED:20230202T190928Z
LAST-MODIFIED:20230430T103817Z
UID:1358-1679220000-1679227200@transition-schwarzenburgerland.ch
SUMMARY:Sunday Dance - freies tanzen für jung und alt
DESCRIPTION:Wir freuen uns auf das gemeinsame tanzen! \nMitbringen: Bequeme Kleidung\, Getränke\, 10.- Unkostenbeitrag
URL:https://transition-schwarzenburgerland.ch/agenda/sunday-dance-freies-tanzen-fuer-jung-und-alt-4/
LOCATION:Sääli\, Bahnhofstrasse 4\, Schwarzenburg\, 3150
CATEGORIES:Innerer Wandel,Kultur,Zusammenleben
ATTACH;FMTTYPE=image/jpeg:https://transition-schwarzenburgerland.ch/wp-content/uploads/2023/02/sunda-dance-vernetzung-gantrisch-scaled.jpg
END:VEVENT
END:VCALENDAR