BEGIN:VCALENDAR
VERSION:2.0
PRODID:-//Transition Schwarzenburgerland - ECPv6.15.20//NONSGML v1.0//EN
CALSCALE:GREGORIAN
METHOD:PUBLISH
X-ORIGINAL-URL:https://transition-schwarzenburgerland.ch
X-WR-CALDESC:Veranstaltungen für Transition Schwarzenburgerland
REFRESH-INTERVAL;VALUE=DURATION:PT1H
X-Robots-Tag:noindex
X-PUBLISHED-TTL:PT1H
BEGIN:VTIMEZONE
TZID:Europe/Zurich
BEGIN:DAYLIGHT
TZOFFSETFROM:+0100
TZOFFSETTO:+0200
TZNAME:CEST
DTSTART:20220327T010000
END:DAYLIGHT
BEGIN:STANDARD
TZOFFSETFROM:+0200
TZOFFSETTO:+0100
TZNAME:CET
DTSTART:20221030T010000
END:STANDARD
BEGIN:DAYLIGHT
TZOFFSETFROM:+0100
TZOFFSETTO:+0200
TZNAME:CEST
DTSTART:20230326T010000
END:DAYLIGHT
BEGIN:STANDARD
TZOFFSETFROM:+0200
TZOFFSETTO:+0100
TZNAME:CET
DTSTART:20231029T010000
END:STANDARD
BEGIN:DAYLIGHT
TZOFFSETFROM:+0100
TZOFFSETTO:+0200
TZNAME:CEST
DTSTART:20240331T010000
END:DAYLIGHT
BEGIN:STANDARD
TZOFFSETFROM:+0200
TZOFFSETTO:+0100
TZNAME:CET
DTSTART:20241027T010000
END:STANDARD
END:VTIMEZONE
BEGIN:VEVENT
DTSTART;TZID=Europe/Zurich:20230203T193000
DTEND;TZID=Europe/Zurich:20230203T213000
DTSTAMP:20260425T205503
CREATED:20221220T142143Z
LAST-MODIFIED:20230430T103941Z
UID:1230-1675452600-1675459800@transition-schwarzenburgerland.ch
SUMMARY:„Was mich betrifft…“ – Gesprächsreihe zum inneren Wandel - Thema: Körper
DESCRIPTION:Alle reden übers Wetter? Wir reden über das\, was uns wirklich beschäftigt. Über gemeisterte und noch zu überstehende Krisen\, über unseren ganz eigenen Traum vom guten Leben\, über das\, was uns beseelt und das\, was uns zu schaffen macht. Über Einsamkeit\, Geld\, Selbstzweifel\, Sex\, Freundschaften\, Flow\, Social Media und vieles mehr. \nDie Idee: Orte\, an denen wir glauben\, besser (schöner\, schlauer\, souveräner) sein zu müssen\, als wir sind\, gibt es genug. Lasst uns Räume schaffen\, wo wir sein können\, wie wir wirklich sind. Hosen runter\, rein in die Verletzlichkeit und hin zum Austausch und zur Verbindung! \nThema am 3.2: Körper \n\nWas ist der Körper für mich? Werkzeug\, Tempel\, sterbliche Hülle\, Verbündeter\, Ärgernis\, Wünschelrute?\nWie stelle ich mir das Zusammenspiel zwischen meinem Körper\, meinem Geist und meiner Seele vor?\nWelche Geschichten erzählt mein Körper\, sein Wuchs\, seine Narben?\nWas habe ich für ein Verständnis von Krankheit?\nHat sich die Beziehung zu meinem Körper im Verlauf des Lebens verändert? Wenn ja\, wodurch?\n\nWir sind Eva und Mirjam\, zwei Frauen aus der Transition-Gruppe. Wir freuen uns auf bekannte und neue Gesichter. \nOffen für alle ab 18. Findet ca. alle 6 Wochen statt. \nInfo und Auskunft: Anmeldung bis am Vortag an: eva.schwegler(at)gmx.ch
URL:https://transition-schwarzenburgerland.ch/agenda/was-mich-betrifft-gespraechsreihe-zum-inneren-wandel-3/
LOCATION:Obereichistrasse 42\, Lanzenhäusern\, 3148
CATEGORIES:Innerer Wandel
ATTACH;FMTTYPE=image/jpeg:https://transition-schwarzenburgerland.ch/wp-content/uploads/2022/09/Wasmichbetrifft1.jpeg
ORGANIZER;CN="Mirjam Schl%C3%A4fli":MAILTO:ms.s(at)posteo.ch
END:VEVENT
BEGIN:VEVENT
DTSTART;TZID=Europe/Zurich:20230204T090000
DTEND;TZID=Europe/Zurich:20230204T160000
DTSTAMP:20260425T205503
CREATED:20221220T160657Z
LAST-MODIFIED:20230430T103927Z
UID:1252-1675501200-1675526400@transition-schwarzenburgerland.ch
SUMMARY:Pflegeeinsatz: «Kopfweiden schneiden - Dorfbach»
DESCRIPTION:Leitung: Walter Frey\, Ueli und Trudi Bähler\, Martin Müller \nGartenhandschuhe mitnehmen
URL:https://transition-schwarzenburgerland.ch/agenda/pflegeeinsatz-kopfweiden-schneiden-dorfbach/
LOCATION:Kadaversammelstelle Ringgenmatt
CATEGORIES:Biodiversität,Garten,Landwirtschaft
ORGANIZER;CN="Naturschutzverein Schwarzenburgerland":MAILTO:urs.weibel@naturschutzschwarzenburg.ch
END:VEVENT
BEGIN:VEVENT
DTSTART;TZID=Europe/Zurich:20230205T100000
DTEND;TZID=Europe/Zurich:20230205T120000
DTSTAMP:20260425T205503
CREATED:20230202T185415Z
LAST-MODIFIED:20230430T103932Z
UID:1348-1675591200-1675598400@transition-schwarzenburgerland.ch
SUMMARY:Sunday Dance - freies tanzen für jung und alt
DESCRIPTION:Wir freuen uns auf das gemeinsame tanzen! \nMitbringen: Bequeme Kleidung\, Getränke\, 10.- Unkostenbeitrag \n 
URL:https://transition-schwarzenburgerland.ch/agenda/sunday-dance-freies-tanzen-fuer-jung-und-alt/
LOCATION:Kirchgemeindehaus\, Junkerngasse 13\, Schwarzenburg\, 3150\, Schweiz
CATEGORIES:Innerer Wandel,Kultur,Zusammenleben
ATTACH;FMTTYPE=image/jpeg:https://transition-schwarzenburgerland.ch/wp-content/uploads/2023/02/sunda-dance-vernetzung-gantrisch-scaled.jpg
END:VEVENT
BEGIN:VEVENT
DTSTART;TZID=Europe/Zurich:20230213T190000
DTEND;TZID=Europe/Zurich:20230213T220000
DTSTAMP:20260425T205503
CREATED:20220513T131421Z
LAST-MODIFIED:20230430T103901Z
UID:766-1676314800-1676325600@transition-schwarzenburgerland.ch
SUMMARY:Klima-Fresque : Workshop zum Klimawandel
DESCRIPTION:In Zusammenarbeit mit der Kirchgemeinde im Rahmen von MuM (Männer und Männer)\n \nDie „Klima-Fresque“ (auch “Klima Puzzle” genannt) ist ein interaktiver und kreativer Workshop zum Thema Klimawandel. \nIn nur drei Stunden unser Klimasystem verstehen! \nBesser verstehen\, um richtig zu handeln. Basierend auf den Berichten des Weltklimarats macht der Workshop wissenschaftliche Informationen auf eine pädagogisch wertvolle Weise leichter zugänglich. \nEntdecken oder vertiefen. Der Workshop ist so aufbereitet\, dass Neulinge genauso wie Klima-ExpertInnen etwas mitnehmen und beitragen können. \nGemeinsam nachdenken und diskutieren. Schwarmintelligenz ist der Schlüssel\, um die 42 Spielkarten in ihre Reihenfolge zu bringen. Ein Puzzle entsteht – denn alles hängt zusammen! \n  \nAnmeldungen an jochen.matthaeus[at]bluewin.ch \nWeitere Information über die Klima-Fresque\, das Workshop zum Klimawandel auf die Internationale Webseite. \nFLYER \n  \nWeitere Veranstaltungen von Transition Schwarzenburgerland in unserem Agenda! \nPoste selber einen Kurs oder Anlass hier: https://transition-schwarzenburgerland.ch/event-posten
URL:https://transition-schwarzenburgerland.ch/agenda/klima-fresque-workshop-zum-klimawandel-3/
LOCATION:KUW-Raum Wahlern\, Wahlern 191\, Wahlern\, 3150\, Schweiz
CATEGORIES:Klima,Workshop
ATTACH;FMTTYPE=image/png:https://transition-schwarzenburgerland.ch/wp-content/uploads/2022/05/Klima-Fresque-e1652447635753.png
ORGANIZER;CN="Transition Schwarzenburgerland":MAILTO:transition.schwarzenburgerland@gmail.com
END:VEVENT
BEGIN:VEVENT
DTSTART;TZID=Europe/Zurich:20230219T100000
DTEND;TZID=Europe/Zurich:20230219T120000
DTSTAMP:20260425T205503
CREATED:20230202T190511Z
LAST-MODIFIED:20230430T103856Z
UID:1354-1676800800-1676808000@transition-schwarzenburgerland.ch
SUMMARY:Sunday Dance - freies tanzen für jung und alt
DESCRIPTION:Wir freuen uns auf das gemeinsame tanzen! \nMitbringen: Bequeme Kleidung\, Getränke\, 10.- Unkostenbeitrag \n 
URL:https://transition-schwarzenburgerland.ch/agenda/sunday-dance-freies-tanzen-fuer-jung-und-alt-2/
LOCATION:Kirchgemeindehaus\, Junkerngasse 13\, Schwarzenburg\, 3150\, Schweiz
CATEGORIES:Innerer Wandel,Kultur,Zusammenleben
ATTACH;FMTTYPE=image/jpeg:https://transition-schwarzenburgerland.ch/wp-content/uploads/2023/02/sunda-dance-vernetzung-gantrisch-scaled.jpg
END:VEVENT
END:VCALENDAR