BEGIN:VCALENDAR
VERSION:2.0
PRODID:-//Transition Schwarzenburgerland - ECPv6.15.20//NONSGML v1.0//EN
CALSCALE:GREGORIAN
METHOD:PUBLISH
X-WR-CALNAME:Transition Schwarzenburgerland
X-ORIGINAL-URL:https://transition-schwarzenburgerland.ch
X-WR-CALDESC:Veranstaltungen für Transition Schwarzenburgerland
REFRESH-INTERVAL;VALUE=DURATION:PT1H
X-Robots-Tag:noindex
X-PUBLISHED-TTL:PT1H
BEGIN:VTIMEZONE
TZID:Europe/Zurich
BEGIN:DAYLIGHT
TZOFFSETFROM:+0100
TZOFFSETTO:+0200
TZNAME:CEST
DTSTART:20250330T010000
END:DAYLIGHT
BEGIN:STANDARD
TZOFFSETFROM:+0200
TZOFFSETTO:+0100
TZNAME:CET
DTSTART:20251026T010000
END:STANDARD
BEGIN:DAYLIGHT
TZOFFSETFROM:+0100
TZOFFSETTO:+0200
TZNAME:CEST
DTSTART:20260329T010000
END:DAYLIGHT
BEGIN:STANDARD
TZOFFSETFROM:+0200
TZOFFSETTO:+0100
TZNAME:CET
DTSTART:20261025T010000
END:STANDARD
BEGIN:DAYLIGHT
TZOFFSETFROM:+0100
TZOFFSETTO:+0200
TZNAME:CEST
DTSTART:20270328T010000
END:DAYLIGHT
BEGIN:STANDARD
TZOFFSETFROM:+0200
TZOFFSETTO:+0100
TZNAME:CET
DTSTART:20271031T010000
END:STANDARD
END:VTIMEZONE
BEGIN:VEVENT
DTSTART;VALUE=DATE:20260918
DTEND;VALUE=DATE:20260919
DTSTAMP:20260420T205123
CREATED:20260328T114549Z
LAST-MODIFIED:20260328T114800Z
UID:2772-1789689600-1789775999@transition-schwarzenburgerland.ch
SUMMARY:Schlössli -Schüür Besuch
DESCRIPTION:Wir besuchen die Schlössli-Schüür in Kirchdorf \nDie 320-jährige Schlössli-Schüür vor dem Zerfall retten und gleichzeitig etwas Sinnvolles für die Gesellschaft tun. Das ist unsere Vision. Denn wir stehen vor grossen Herausforderungen: Klimawandel\, Artensterben\, Wohnungsknappheit\, soziale Vereinsamung\, sind nur einige Stichworte. Die Welt retten können wir mit unserer Real-Utopie nicht\, jedoch im Kleinen einen Beitrag für eine bessere und lebenswertere Welt leisten. \nMehr Details findest Du: https://stalldrang-kirchdorf.ch/
URL:https://transition-schwarzenburgerland.ch/agenda/schloessli-schueuer-besuch/
CATEGORIES:Klima,Kultur,Sozial,Zusammenleben
ATTACH;FMTTYPE=image/png:https://transition-schwarzenburgerland.ch/wp-content/uploads/2026/03/schloessli-schueuer.png
ORGANIZER;CN="Valoo":MAILTO:info@va-loo.ch
END:VEVENT
END:VCALENDAR