BEGIN:VCALENDAR
VERSION:2.0
PRODID:-//Transition Schwarzenburgerland - ECPv6.15.20//NONSGML v1.0//EN
CALSCALE:GREGORIAN
METHOD:PUBLISH
X-WR-CALNAME:Transition Schwarzenburgerland
X-ORIGINAL-URL:https://transition-schwarzenburgerland.ch
X-WR-CALDESC:Veranstaltungen für Transition Schwarzenburgerland
REFRESH-INTERVAL;VALUE=DURATION:PT1H
X-Robots-Tag:noindex
X-PUBLISHED-TTL:PT1H
BEGIN:VTIMEZONE
TZID:Europe/Zurich
BEGIN:DAYLIGHT
TZOFFSETFROM:+0100
TZOFFSETTO:+0200
TZNAME:CEST
DTSTART:20250330T010000
END:DAYLIGHT
BEGIN:STANDARD
TZOFFSETFROM:+0200
TZOFFSETTO:+0100
TZNAME:CET
DTSTART:20251026T010000
END:STANDARD
BEGIN:DAYLIGHT
TZOFFSETFROM:+0100
TZOFFSETTO:+0200
TZNAME:CEST
DTSTART:20260329T010000
END:DAYLIGHT
BEGIN:STANDARD
TZOFFSETFROM:+0200
TZOFFSETTO:+0100
TZNAME:CET
DTSTART:20261025T010000
END:STANDARD
BEGIN:DAYLIGHT
TZOFFSETFROM:+0100
TZOFFSETTO:+0200
TZNAME:CEST
DTSTART:20270328T010000
END:DAYLIGHT
BEGIN:STANDARD
TZOFFSETFROM:+0200
TZOFFSETTO:+0100
TZNAME:CET
DTSTART:20271031T010000
END:STANDARD
END:VTIMEZONE
BEGIN:VEVENT
DTSTART;TZID=Europe/Zurich:20260515T090000
DTEND;TZID=Europe/Zurich:20260515T170000
DTSTAMP:20260420T135959
CREATED:20260408T173835Z
LAST-MODIFIED:20260408T173835Z
UID:2784-1778835600-1778864400@transition-schwarzenburgerland.ch
SUMMARY:Bio Saatgut- und Setzlingen Tausch
DESCRIPTION:SO FUNKTIONIERT‘S:\nBringen und Tauschen\nDu bringst Samen sowie selbstgezogene Setzlinge von Blumen\,Gemüse\, Obst etc. oder was im Garten zu üppig gedeiht undtauschst sie gratis mit anderen. Idealerweise biologische undeinheimische Pflanzen! Wenn möglich Pflanzen beschriften. \nNur Holen\nHast du nichts zu Tauschen\, darfst du gegen eine kleine SpendeSamen oder Setzlinge mitnehmen. \nAustauschen\nWir freuen uns auf einen spannenden Austausch über Pflanzenund Gartentipps bei Kaffee und Kuchen. \nFlyer herunterladen: flyer-saatgut-tausch-2026
URL:https://transition-schwarzenburgerland.ch/agenda/bio-saatgut-und-setzlingen-tausch/
LOCATION:Märit Schwarzenburg\, Dorfplatz\, Schwarzenburg\, 3150\, Switzerland
CATEGORIES:Biodiversität,Garten,Lokale Kreisläufe,Sharing Economy,Sozial,Zusammenleben
ATTACH;FMTTYPE=image/png:https://transition-schwarzenburgerland.ch/wp-content/uploads/2026/04/bio-saatgut-und-setzlingen-tausch.png
ORGANIZER;CN="Transition Schwarzenburgerland":MAILTO:transition.schwarzenburgerland@gmail.com
END:VEVENT
END:VCALENDAR