BEGIN:VCALENDAR
VERSION:2.0
PRODID:-//Transition Schwarzenburgerland - ECPv6.15.20//NONSGML v1.0//EN
CALSCALE:GREGORIAN
METHOD:PUBLISH
X-WR-CALNAME:Transition Schwarzenburgerland
X-ORIGINAL-URL:https://transition-schwarzenburgerland.ch
X-WR-CALDESC:Veranstaltungen für Transition Schwarzenburgerland
REFRESH-INTERVAL;VALUE=DURATION:PT1H
X-Robots-Tag:noindex
X-PUBLISHED-TTL:PT1H
BEGIN:VTIMEZONE
TZID:Europe/Zurich
BEGIN:DAYLIGHT
TZOFFSETFROM:+0100
TZOFFSETTO:+0200
TZNAME:CEST
DTSTART:20250330T010000
END:DAYLIGHT
BEGIN:STANDARD
TZOFFSETFROM:+0200
TZOFFSETTO:+0100
TZNAME:CET
DTSTART:20251026T010000
END:STANDARD
BEGIN:DAYLIGHT
TZOFFSETFROM:+0100
TZOFFSETTO:+0200
TZNAME:CEST
DTSTART:20260329T010000
END:DAYLIGHT
BEGIN:STANDARD
TZOFFSETFROM:+0200
TZOFFSETTO:+0100
TZNAME:CET
DTSTART:20261025T010000
END:STANDARD
BEGIN:DAYLIGHT
TZOFFSETFROM:+0100
TZOFFSETTO:+0200
TZNAME:CEST
DTSTART:20270328T010000
END:DAYLIGHT
BEGIN:STANDARD
TZOFFSETFROM:+0200
TZOFFSETTO:+0100
TZNAME:CET
DTSTART:20271031T010000
END:STANDARD
END:VTIMEZONE
BEGIN:VEVENT
DTSTART;TZID=Europe/Zurich:20260505T201500
DTEND;TZID=Europe/Zurich:20260505T220000
DTSTAMP:20260420T140000
CREATED:20260327T122640Z
LAST-MODIFIED:20260327T122640Z
UID:2768-1778012100-1778018400@transition-schwarzenburgerland.ch
SUMMARY:Filmabend - Der letzte Samen
DESCRIPTION:Claro und Schwarzenburg solidarisch zeigen den Dokumentarfilm «the last seed» (77min).  \nMit bewegender Musik\, fesselnden Bildern und engagierten Voten zeigt uns die Filmerin den Kampf von KleinbäuerInnen aus Senegal\, Südafrika und Tansania für ihre von internationalen Agrarkonzernen bedrohte traditionelle und nachhaltige Produktionsweise.
URL:https://transition-schwarzenburgerland.ch/agenda/filmabend-der-letzte-samen/
LOCATION:Kirchgemeindehaus\, Junkerngasse 13\, Schwarzenburg\, 3150\, Schweiz
CATEGORIES:Biodiversität,Ernährung,Klima,Landwirtschaft,Sozial
ATTACH;FMTTYPE=image/webp:https://transition-schwarzenburgerland.ch/wp-content/uploads/2026/03/the-last-seed.webp
ORGANIZER;CN="schwarzenburg solidarisch":MAILTO:seraina.schutz@konzernverantwortung.ch
END:VEVENT
END:VCALENDAR