BEGIN:VCALENDAR
VERSION:2.0
PRODID:-//Transition Schwarzenburgerland - ECPv6.15.20//NONSGML v1.0//EN
CALSCALE:GREGORIAN
METHOD:PUBLISH
X-WR-CALNAME:Transition Schwarzenburgerland
X-ORIGINAL-URL:https://transition-schwarzenburgerland.ch
X-WR-CALDESC:Veranstaltungen für Transition Schwarzenburgerland
REFRESH-INTERVAL;VALUE=DURATION:PT1H
X-Robots-Tag:noindex
X-PUBLISHED-TTL:PT1H
BEGIN:VTIMEZONE
TZID:Europe/Zurich
BEGIN:DAYLIGHT
TZOFFSETFROM:+0100
TZOFFSETTO:+0200
TZNAME:CEST
DTSTART:20250330T010000
END:DAYLIGHT
BEGIN:STANDARD
TZOFFSETFROM:+0200
TZOFFSETTO:+0100
TZNAME:CET
DTSTART:20251026T010000
END:STANDARD
BEGIN:DAYLIGHT
TZOFFSETFROM:+0100
TZOFFSETTO:+0200
TZNAME:CEST
DTSTART:20260329T010000
END:DAYLIGHT
BEGIN:STANDARD
TZOFFSETFROM:+0200
TZOFFSETTO:+0100
TZNAME:CET
DTSTART:20261025T010000
END:STANDARD
BEGIN:DAYLIGHT
TZOFFSETFROM:+0100
TZOFFSETTO:+0200
TZNAME:CEST
DTSTART:20270328T010000
END:DAYLIGHT
BEGIN:STANDARD
TZOFFSETFROM:+0200
TZOFFSETTO:+0100
TZNAME:CET
DTSTART:20271031T010000
END:STANDARD
END:VTIMEZONE
BEGIN:VEVENT
DTSTART;TZID=Europe/Zurich:20260328T140000
DTEND;TZID=Europe/Zurich:20260328T160000
DTSTAMP:20260420T135959
CREATED:20251017T145038Z
LAST-MODIFIED:20251024T105958Z
UID:2670-1774706400-1774713600@transition-schwarzenburgerland.ch
SUMMARY:Abfall - woher\, wohin\, warum?
DESCRIPTION:Aus den Augen aus dem Sinn \nSimon Liechti\, Betriebsleiter des Entsorgungscenters Brüllen\, bringt uns in seinem Vortrag viel Wissenswertes zur Abfallbewirtschaftung näher: \nGesetzliche Grundlagen und Basiswissen: \nAbfallrechtliche Betriebsbewilligungen / Abfallverordnung VVEA \nVerkehr mit Abfällen VeVA \nDeponien / Aufbereitung / Export \nAktuelle Praxis mit Rückblick und Blick in die Zukunft: \nAbfallstatistiken BAFU \nSiedlungsabfälle / Gewerbeabfälle \nFragen und Wunschthemen besprechen: \nIndividuell \nEventuell Rückmeldungen zu Fragen aus 1. Teil.
URL:https://transition-schwarzenburgerland.ch/agenda/abfall-woher-wohin-warum/
LOCATION:Generationehuus\, Bernstrasse 9\, Schwarzenburg\, BE\, 3150\, Schweiz
CATEGORIES:Abfall,Konsum,Kreislaufwirtschaft,Lokale Kreisläufe
ATTACH;FMTTYPE=image/png:https://transition-schwarzenburgerland.ch/wp-content/uploads/2025/10/25W-702_1_Entsorcungscenter.png
ORGANIZER;CN="VHS Schwarzenburg":MAILTO:info@vhschwarzenburg.ch
END:VEVENT
END:VCALENDAR