BEGIN:VCALENDAR
VERSION:2.0
PRODID:-//Transition Schwarzenburgerland - ECPv6.15.20//NONSGML v1.0//EN
CALSCALE:GREGORIAN
METHOD:PUBLISH
X-WR-CALNAME:Transition Schwarzenburgerland
X-ORIGINAL-URL:https://transition-schwarzenburgerland.ch
X-WR-CALDESC:Veranstaltungen für Transition Schwarzenburgerland
REFRESH-INTERVAL;VALUE=DURATION:PT1H
X-Robots-Tag:noindex
X-PUBLISHED-TTL:PT1H
BEGIN:VTIMEZONE
TZID:Europe/Zurich
BEGIN:DAYLIGHT
TZOFFSETFROM:+0100
TZOFFSETTO:+0200
TZNAME:CEST
DTSTART:20250330T010000
END:DAYLIGHT
BEGIN:STANDARD
TZOFFSETFROM:+0200
TZOFFSETTO:+0100
TZNAME:CET
DTSTART:20251026T010000
END:STANDARD
BEGIN:DAYLIGHT
TZOFFSETFROM:+0100
TZOFFSETTO:+0200
TZNAME:CEST
DTSTART:20260329T010000
END:DAYLIGHT
BEGIN:STANDARD
TZOFFSETFROM:+0200
TZOFFSETTO:+0100
TZNAME:CET
DTSTART:20261025T010000
END:STANDARD
BEGIN:DAYLIGHT
TZOFFSETFROM:+0100
TZOFFSETTO:+0200
TZNAME:CEST
DTSTART:20270328T010000
END:DAYLIGHT
BEGIN:STANDARD
TZOFFSETFROM:+0200
TZOFFSETTO:+0100
TZNAME:CET
DTSTART:20271031T010000
END:STANDARD
END:VTIMEZONE
BEGIN:VEVENT
DTSTART;TZID=Europe/Zurich:20260307T140000
DTEND;TZID=Europe/Zurich:20260307T160000
DTSTAMP:20260420T140000
CREATED:20251017T144605Z
LAST-MODIFIED:20251024T105714Z
UID:2667-1772892000-1772899200@transition-schwarzenburgerland.ch
SUMMARY:Üse Ghüder - Führung durch das Entsorgungscenter Brülle
DESCRIPTION:Ein Blick hinter die Mulden: Führung durch das Entsorgungscenter Brülle\nWissen und Tipps für einen verantwortungsvollen Umgang mit unseren Ressourcen\nSimon Liechti\, Betriebsleiter\, führt uns durch das Entsorgungscenter Brüllen. Wir erhalten dadurch ein vertieftes Verständnis für die Organisation und die Abläufe in einem Entsorgungscenter. Simon Liechti und seine Mitarbeiter gehen gezielt auf die einzelnen Abfallarten ein\, welche sie in ihrem Entsorgungscenter annehmen\, erklären die Herkunft\, die Entsorgungswege – und was wir tun können\, um die Mengen zu reduzieren.\n\nEine ergänzende Veranstaltung findet am 28. März 14:00 Uhr statt (Aus den Augen – aus dem Sinn? Vortrag zur Abfallbewirtschaftung)
URL:https://transition-schwarzenburgerland.ch/agenda/uese-ghueder/
LOCATION:Liechti entsorgt\, Guggisbergstrasse 104\, Schwarzenburg\, 3150\, Schweiz
CATEGORIES:Abfall,Konsum,Kreislaufwirtschaft,Lokale Kreisläufe
ATTACH;FMTTYPE=image/png:https://transition-schwarzenburgerland.ch/wp-content/uploads/2025/10/25W-702_1_Entsorcungscenter.png
ORGANIZER;CN="VHS Schwarzenburg":MAILTO:info@vhschwarzenburg.ch
END:VEVENT
END:VCALENDAR