BEGIN:VCALENDAR
VERSION:2.0
PRODID:-//Transition Schwarzenburgerland - ECPv6.15.20//NONSGML v1.0//EN
CALSCALE:GREGORIAN
METHOD:PUBLISH
X-ORIGINAL-URL:https://transition-schwarzenburgerland.ch
X-WR-CALDESC:Veranstaltungen für Transition Schwarzenburgerland
REFRESH-INTERVAL;VALUE=DURATION:PT1H
X-Robots-Tag:noindex
X-PUBLISHED-TTL:PT1H
BEGIN:VTIMEZONE
TZID:Europe/Zurich
BEGIN:DAYLIGHT
TZOFFSETFROM:+0100
TZOFFSETTO:+0200
TZNAME:CEST
DTSTART:20240331T010000
END:DAYLIGHT
BEGIN:STANDARD
TZOFFSETFROM:+0200
TZOFFSETTO:+0100
TZNAME:CET
DTSTART:20241027T010000
END:STANDARD
BEGIN:DAYLIGHT
TZOFFSETFROM:+0100
TZOFFSETTO:+0200
TZNAME:CEST
DTSTART:20250330T010000
END:DAYLIGHT
BEGIN:STANDARD
TZOFFSETFROM:+0200
TZOFFSETTO:+0100
TZNAME:CET
DTSTART:20251026T010000
END:STANDARD
BEGIN:DAYLIGHT
TZOFFSETFROM:+0100
TZOFFSETTO:+0200
TZNAME:CEST
DTSTART:20260329T010000
END:DAYLIGHT
BEGIN:STANDARD
TZOFFSETFROM:+0200
TZOFFSETTO:+0100
TZNAME:CET
DTSTART:20261025T010000
END:STANDARD
END:VTIMEZONE
BEGIN:VEVENT
DTSTART;TZID=Europe/Zurich:20251128T150000
DTEND;TZID=Europe/Zurich:20251128T170000
DTSTAMP:20260420T205154
CREATED:20251121T074210Z
LAST-MODIFIED:20251121T074551Z
UID:2691-1764342000-1764349200@transition-schwarzenburgerland.ch
SUMMARY:Generationen-Handy-Treff
DESCRIPTION:  \nWas erwartet dich: \n\nAustausch und Unterstützung bei Fragen rund ums Handy (Android & iPhone)\nIndividuelle Unterstützung durch Jugendliche vor Ort\nZeit für generationenübergreifenden Austausch mit einer Tasse Tee und kleinen Leckereien\n\nWer kann teilnehmen: \n\nAlle interessierten Personen\, die mehr über ihr Handy erfahren oder ihre digitalen Kompetenzen teilen möchten. Keine Anmeldung nötig.\n\nWann & Wo: \n\nFreitag\, 28. November 2025\, 15:00 – 17:00 Uhr\nIm Gemeinschaftsraum des Generationenhauses\nBernstrasse 9\, 3150 Schwarzenburg\n\n\nHAST DU FRAGEN?\n\n📧 fachstelle@kjfa-gantrisch.ch\n📞 031 731 26 00 / 079 307 82 14
URL:https://transition-schwarzenburgerland.ch/agenda/generationen-handy-treff/
LOCATION:Generationehuus\, Bernstrasse 9\, Schwarzenburg\, BE\, 3150\, Schweiz
CATEGORIES:Konsum,Sharing Economy,Sozial,Zusammenleben
ATTACH;FMTTYPE=image/jpeg:https://transition-schwarzenburgerland.ch/wp-content/uploads/2025/11/generationen-handy-treffen-2025.jpg
ORGANIZER;CN="Kinder- und Jugendfachstelle Region Gantrisch":MAILTO:fachstelle@kjfa-gantrisch.ch
END:VEVENT
END:VCALENDAR