BEGIN:VCALENDAR
VERSION:2.0
PRODID:-//Transition Schwarzenburgerland - ECPv6.15.20//NONSGML v1.0//EN
CALSCALE:GREGORIAN
METHOD:PUBLISH
X-ORIGINAL-URL:https://transition-schwarzenburgerland.ch
X-WR-CALDESC:Veranstaltungen für Transition Schwarzenburgerland
REFRESH-INTERVAL;VALUE=DURATION:PT1H
X-Robots-Tag:noindex
X-PUBLISHED-TTL:PT1H
BEGIN:VTIMEZONE
TZID:Europe/Zurich
BEGIN:DAYLIGHT
TZOFFSETFROM:+0100
TZOFFSETTO:+0200
TZNAME:CEST
DTSTART:20240331T010000
END:DAYLIGHT
BEGIN:STANDARD
TZOFFSETFROM:+0200
TZOFFSETTO:+0100
TZNAME:CET
DTSTART:20241027T010000
END:STANDARD
BEGIN:DAYLIGHT
TZOFFSETFROM:+0100
TZOFFSETTO:+0200
TZNAME:CEST
DTSTART:20250330T010000
END:DAYLIGHT
BEGIN:STANDARD
TZOFFSETFROM:+0200
TZOFFSETTO:+0100
TZNAME:CET
DTSTART:20251026T010000
END:STANDARD
BEGIN:DAYLIGHT
TZOFFSETFROM:+0100
TZOFFSETTO:+0200
TZNAME:CEST
DTSTART:20260329T010000
END:DAYLIGHT
BEGIN:STANDARD
TZOFFSETFROM:+0200
TZOFFSETTO:+0100
TZNAME:CET
DTSTART:20261025T010000
END:STANDARD
END:VTIMEZONE
BEGIN:VEVENT
DTSTART;TZID=Europe/Zurich:20251120T190000
DTEND;TZID=Europe/Zurich:20251120T220000
DTSTAMP:20260420T205154
CREATED:20250910T171036Z
LAST-MODIFIED:20250911T140756Z
UID:2634-1763665200-1763676000@transition-schwarzenburgerland.ch
SUMMARY:Workshop Kreislaufwirtschaft
DESCRIPTION:Was wäre\, wenn wir unsere Art zu produzieren und zu konsumieren überdenken würden? Die Kreislaufwirtschaft ermöglicht es uns\, anders zu produzieren\, wiederzuverwenden\, zu reparieren und uns um die Dinge um uns herum zu kümmern\, sie zu teilen und auszutauschen… um Abfall zu reduzieren und Ressourcen zu schonen.\n\nDas ist konkret\, zugänglich und es beginnt heute.\n\nNimm an unserem Workshop „die Freske der Kreislaufwirtschaft“ teil\, um die Grundlagen der Kreislaufwirtschaft zu lernen\, Lösungen zu entdecken und aktiv zu werden.
URL:https://transition-schwarzenburgerland.ch/agenda/workshop-kreislaufwirtschaft/
LOCATION:Generationehuus\, Bernstrasse 9\, Schwarzenburg\, BE\, 3150\, Schweiz
CATEGORIES:Konsum,Lokale Kreisläufe,Workshop
ATTACH;FMTTYPE=image/png:https://transition-schwarzenburgerland.ch/wp-content/uploads/2025/09/kreislauf-wirtschaft-freske.png
END:VEVENT
END:VCALENDAR