BEGIN:VCALENDAR
VERSION:2.0
PRODID:-//Transition Schwarzenburgerland - ECPv6.15.20//NONSGML v1.0//EN
CALSCALE:GREGORIAN
METHOD:PUBLISH
X-WR-CALNAME:Transition Schwarzenburgerland
X-ORIGINAL-URL:https://transition-schwarzenburgerland.ch
X-WR-CALDESC:Veranstaltungen für Transition Schwarzenburgerland
REFRESH-INTERVAL;VALUE=DURATION:PT1H
X-Robots-Tag:noindex
X-PUBLISHED-TTL:PT1H
BEGIN:VTIMEZONE
TZID:Europe/Zurich
BEGIN:DAYLIGHT
TZOFFSETFROM:+0100
TZOFFSETTO:+0200
TZNAME:CEST
DTSTART:20240331T010000
END:DAYLIGHT
BEGIN:STANDARD
TZOFFSETFROM:+0200
TZOFFSETTO:+0100
TZNAME:CET
DTSTART:20241027T010000
END:STANDARD
BEGIN:DAYLIGHT
TZOFFSETFROM:+0100
TZOFFSETTO:+0200
TZNAME:CEST
DTSTART:20250330T010000
END:DAYLIGHT
BEGIN:STANDARD
TZOFFSETFROM:+0200
TZOFFSETTO:+0100
TZNAME:CET
DTSTART:20251026T010000
END:STANDARD
BEGIN:DAYLIGHT
TZOFFSETFROM:+0100
TZOFFSETTO:+0200
TZNAME:CEST
DTSTART:20260329T010000
END:DAYLIGHT
BEGIN:STANDARD
TZOFFSETFROM:+0200
TZOFFSETTO:+0100
TZNAME:CET
DTSTART:20261025T010000
END:STANDARD
END:VTIMEZONE
BEGIN:VEVENT
DTSTART;TZID=Europe/Zurich:20251025T130000
DTEND;TZID=Europe/Zurich:20251025T153000
DTSTAMP:20260420T223817
CREATED:20250606T125034Z
LAST-MODIFIED:20250910T185451Z
UID:2543-1761397200-1761406200@transition-schwarzenburgerland.ch
SUMMARY:Senseputzete 2025
DESCRIPTION:  \nAm Samstag\, 25. Oktober 2025 findet\, zusammen mit \nder Gemeinde Heitenried\, die traditionelle „Senseputzete“ im Bereich Sodbach-Grasburg-Schwarzwasserbrücke statt. \nWo?  Treffpunkt Parkplatz Sodbachbrücke\, Freiburger Seite. \nWer?  Alle. Eltern beaufsichtigen ihre Kinder.\nWie?  Zweckmässige Kleidung\, gute Schuhe. Arbeitshandschuhe werden abgegeben.\nWas?  Sammeln und Entsorgen von zurückgelassenen Abfällen und Neophyten im Uferbereich der Sense.
URL:https://transition-schwarzenburgerland.ch/agenda/senseputzete-2025/
LOCATION:Sodbachbrücke\, Sodbach 125\, Heitenried\, FR\, 1714\, Schweiz
CATEGORIES:Biodiversität,Zusammenleben
ATTACH;FMTTYPE=image/jpeg:https://transition-schwarzenburgerland.ch/wp-content/uploads/2024/10/senseputzete-schwarzenburg.jpg
END:VEVENT
END:VCALENDAR