BEGIN:VCALENDAR
VERSION:2.0
PRODID:-//Transition Schwarzenburgerland - ECPv6.15.20//NONSGML v1.0//EN
CALSCALE:GREGORIAN
METHOD:PUBLISH
X-ORIGINAL-URL:https://transition-schwarzenburgerland.ch
X-WR-CALDESC:Veranstaltungen für Transition Schwarzenburgerland
REFRESH-INTERVAL;VALUE=DURATION:PT1H
X-Robots-Tag:noindex
X-PUBLISHED-TTL:PT1H
BEGIN:VTIMEZONE
TZID:Europe/Zurich
BEGIN:DAYLIGHT
TZOFFSETFROM:+0100
TZOFFSETTO:+0200
TZNAME:CEST
DTSTART:20240331T010000
END:DAYLIGHT
BEGIN:STANDARD
TZOFFSETFROM:+0200
TZOFFSETTO:+0100
TZNAME:CET
DTSTART:20241027T010000
END:STANDARD
BEGIN:DAYLIGHT
TZOFFSETFROM:+0100
TZOFFSETTO:+0200
TZNAME:CEST
DTSTART:20250330T010000
END:DAYLIGHT
BEGIN:STANDARD
TZOFFSETFROM:+0200
TZOFFSETTO:+0100
TZNAME:CET
DTSTART:20251026T010000
END:STANDARD
BEGIN:DAYLIGHT
TZOFFSETFROM:+0100
TZOFFSETTO:+0200
TZNAME:CEST
DTSTART:20260329T010000
END:DAYLIGHT
BEGIN:STANDARD
TZOFFSETFROM:+0200
TZOFFSETTO:+0100
TZNAME:CET
DTSTART:20261025T010000
END:STANDARD
END:VTIMEZONE
BEGIN:VEVENT
DTSTART;VALUE=DATE:20250507
DTEND;VALUE=DATE:20250508
DTSTAMP:20260421T071242
CREATED:20250421T095400Z
LAST-MODIFIED:20250421T095400Z
UID:2467-1746576000-1746662399@transition-schwarzenburgerland.ch
SUMMARY:Swiss Overshoot Day 2025
DESCRIPTION:Am 7. Mai ist es soweit – die Schweiz hat die Ressourcen aufgebraucht\, die uns für 2025 zugestanden sind. Der Swiss Overshoot Day markiert den Tag\, an dem wir mehr verbraucht haben\, als die Erde in einem Jahr erneuern kann. \nWas können wir tun? \n\n\n\nUmweltfreundliche Entscheidungen im Alltag:\n\n\n\n\n\nWeniger Konsum: Nur das Kaufen\, was wirklich benötigt wird\, und Secondhandartikel nutzen. \n\n\n\n\nLebensmittelverschwendung vermeiden: Lebensmittel sorgfältig planen und lagern\, um Abfall zu reduzieren. \n\n\n\n\nFleischkonsum reduzieren: Alternativ Proteinquellen wählen und weniger Fleisch essen. \n\n\n\n\nÖffentliche Verkehrsmittel nutzen: Mehr öffentliche Verkehrsmittel statt des Autos nutzen. \n\n\n\n\nKleidung länger tragen: Kleidungsstücke reparieren und länger tragen\, statt schnell zu neuen zu greifen. \n\n\n\n\nEnergie sparen: Den Energieverbrauch reduzieren und auf effiziente Technologien setzen. \n\n\n\n\nNatur erhalten: Die Natur schützen und den eigenen Garten insektenfreundlich gestalten. \n\n\n\n\n\n\n\n\n\nZusätzliche Tipps:\n\n\n\n\n\nWeniger fliegen: Lokale Urlaube wählen und Reisen reduzieren.\nÖffentlichkeitsarbeit: Für die Umwelt abstimmen und wählen.\nSecondhand-Mode: Kleidungsstücke statt neuer in Secondhandläden kaufen oder Tauschbörsen besuchen.\nUnterstützung: Den WWF oder andere Umweltorganisationen unterstützen.\nCO2-Fußabdruck reduzieren: Mit einem CO2-Rechner den eigenen Fußabdruck berechnen und Maßnahmen zur Reduzierung ergreifen. 
URL:https://transition-schwarzenburgerland.ch/agenda/swiss-overshoot-day-2025/
CATEGORIES:Klima,Konsum
ATTACH;FMTTYPE=image/jpeg:https://transition-schwarzenburgerland.ch/wp-content/uploads/2025/04/swiss-overshoot-day-2025.jpg
END:VEVENT
END:VCALENDAR