BEGIN:VCALENDAR
VERSION:2.0
PRODID:-//Transition Schwarzenburgerland - ECPv6.15.20//NONSGML v1.0//EN
CALSCALE:GREGORIAN
METHOD:PUBLISH
X-WR-CALNAME:Transition Schwarzenburgerland
X-ORIGINAL-URL:https://transition-schwarzenburgerland.ch
X-WR-CALDESC:Veranstaltungen für Transition Schwarzenburgerland
REFRESH-INTERVAL;VALUE=DURATION:PT1H
X-Robots-Tag:noindex
X-PUBLISHED-TTL:PT1H
BEGIN:VTIMEZONE
TZID:Europe/Zurich
BEGIN:DAYLIGHT
TZOFFSETFROM:+0100
TZOFFSETTO:+0200
TZNAME:CEST
DTSTART:20240331T010000
END:DAYLIGHT
BEGIN:STANDARD
TZOFFSETFROM:+0200
TZOFFSETTO:+0100
TZNAME:CET
DTSTART:20241027T010000
END:STANDARD
BEGIN:DAYLIGHT
TZOFFSETFROM:+0100
TZOFFSETTO:+0200
TZNAME:CEST
DTSTART:20250330T010000
END:DAYLIGHT
BEGIN:STANDARD
TZOFFSETFROM:+0200
TZOFFSETTO:+0100
TZNAME:CET
DTSTART:20251026T010000
END:STANDARD
BEGIN:DAYLIGHT
TZOFFSETFROM:+0100
TZOFFSETTO:+0200
TZNAME:CEST
DTSTART:20260329T010000
END:DAYLIGHT
BEGIN:STANDARD
TZOFFSETFROM:+0200
TZOFFSETTO:+0100
TZNAME:CET
DTSTART:20261025T010000
END:STANDARD
END:VTIMEZONE
BEGIN:VEVENT
DTSTART;TZID=Europe/Zurich:20250424T170000
DTEND;TZID=Europe/Zurich:20250424T190000
DTSTAMP:20260421T085157
CREATED:20250408T185130Z
LAST-MODIFIED:20250408T185246Z
UID:2454-1745514000-1745521200@transition-schwarzenburgerland.ch
SUMMARY:Besichtigung der ARA Thunersee
DESCRIPTION:Die ARA Thunersee organisiert am 24. April eine Besichtigung der ARA Thunersee mit anschliessendem Apéro. Die Kläranlage reinigt das Abwasser von 200’000 Personen mit Hilfe von modernen und vielfältigen Systemen wie dem biologischen Phosphorabbau (Bio-P)\, der Entfernung von Mikroverunreinigungen\, Anammox\, Schlammbehandlung\, etc.\nTreffpunkt beim Eingang der ARA\, Aarestrasse 62\, Uetendorf um 17:00 und Apéro um ca. 18:30 \nAnreise: Mit der S4 von Bern oder Thun bis zur Haltestelle „Uetendorf Allmend“\, dann ca. 10-15′ zu Fuss.\nKostenbeteiligung: 40 CHF pro Person. \nAnmeldung: bis zum 17. April bei: bastian.etter@vuna.ch \nDer Verein Va-loo\, der sich für ressourcenorientierte Sanitärysteme einsetzt\, unterstützt diese Veranstaltung. Transition Schwarzenburgerland\, die derzeit an den Kreisläufen von der Ernte bis zur Trockentoilette arbeitet\, wird ebenfalls teilnehmen. Du auch?
URL:https://transition-schwarzenburgerland.ch/agenda/besichtigung-der-ara-thunersee/
LOCATION:ARA\, Aarestrasse 62\, Uetendorf\, Aarestrasse 62\, Uetendorf
CATEGORIES:Biodiversität,Lokale Kreisläufe,Technische Innovation
ATTACH;FMTTYPE=image/jpeg:https://transition-schwarzenburgerland.ch/wp-content/uploads/2025/04/ara-thunersee.jpg
END:VEVENT
END:VCALENDAR