BEGIN:VCALENDAR
VERSION:2.0
PRODID:-//Transition Schwarzenburgerland - ECPv6.15.20//NONSGML v1.0//EN
CALSCALE:GREGORIAN
METHOD:PUBLISH
X-ORIGINAL-URL:https://transition-schwarzenburgerland.ch
X-WR-CALDESC:Veranstaltungen für Transition Schwarzenburgerland
REFRESH-INTERVAL;VALUE=DURATION:PT1H
X-Robots-Tag:noindex
X-PUBLISHED-TTL:PT1H
BEGIN:VTIMEZONE
TZID:Europe/Zurich
BEGIN:DAYLIGHT
TZOFFSETFROM:+0100
TZOFFSETTO:+0200
TZNAME:CEST
DTSTART:20230326T010000
END:DAYLIGHT
BEGIN:STANDARD
TZOFFSETFROM:+0200
TZOFFSETTO:+0100
TZNAME:CET
DTSTART:20231029T010000
END:STANDARD
BEGIN:DAYLIGHT
TZOFFSETFROM:+0100
TZOFFSETTO:+0200
TZNAME:CEST
DTSTART:20240331T010000
END:DAYLIGHT
BEGIN:STANDARD
TZOFFSETFROM:+0200
TZOFFSETTO:+0100
TZNAME:CET
DTSTART:20241027T010000
END:STANDARD
BEGIN:DAYLIGHT
TZOFFSETFROM:+0100
TZOFFSETTO:+0200
TZNAME:CEST
DTSTART:20250330T010000
END:DAYLIGHT
BEGIN:STANDARD
TZOFFSETFROM:+0200
TZOFFSETTO:+0100
TZNAME:CET
DTSTART:20251026T010000
END:STANDARD
END:VTIMEZONE
BEGIN:VEVENT
DTSTART;TZID=Europe/Zurich:20241104T180000
DTEND;TZID=Europe/Zurich:20241104T200000
DTSTAMP:20260423T150527
CREATED:20240906T071708Z
LAST-MODIFIED:20240906T071708Z
UID:2259-1730743200-1730750400@transition-schwarzenburgerland.ch
SUMMARY:Informationsveranstaltung 2. Konzernverantwortungsinitiative Komitee Schwarzenburg
DESCRIPTION:Wie Du sicher auch mitbekommen hast\, bereitet die Koalition für Konzernverantwortung gerade eine neue Volksinitiative vor\, um die Blockade in Bundesbern beim Thema Konzernverantwortung zu lösen.\n\nIch wohne wie Du in Schwarzenburg und möchte hier die geplante Unterschriftensammlung unterstützen.\n\nAm 4. November um 18.00 Uhr möchte ich darum alle Interessierten in Schwarzenburg zu einem Treffen im Kirchgemeindehaus Schwarzenburg an der Junkerngasse 13 einladen. Kommst du auch\, damit wir gemeinsam besprechen können\, wie wir hier in der Gemeinde die Unterschriftensammlung unterstützen können? Es würde mich sehr freuen\, wenn du auch kommst!\n\nAuch Seraina vom Kampagnensekretariat aus Bern wird an dem Treffen dabei sein und uns die neue Initiative vorstellen.\n\nMelde Dich doch kurz mit einer Antwort auf dieses Mail an\, wenn Du auch teilnehmen kannst.\n\nIch freue mich auf das Treffen!\n\nHerzlich\n\nJochen Matthäus
URL:https://transition-schwarzenburgerland.ch/agenda/informationsveranstaltung-2-konzernverantwortungsinitiative-komitee-schwarzenburg/
LOCATION:Kirchgemeindehaus\, Junkerngasse 13\, Schwarzenburg\, 3150\, Schweiz
CATEGORIES:Klima,Konsum,Sozial
ATTACH;FMTTYPE=image/png:https://transition-schwarzenburgerland.ch/wp-content/uploads/2024/09/konzernverantwortung.png
ORGANIZER;CN="schwarzenburg solidarisch":MAILTO:seraina.schutz@konzernverantwortung.ch
END:VEVENT
END:VCALENDAR