BEGIN:VCALENDAR
VERSION:2.0
PRODID:-//Transition Schwarzenburgerland - ECPv6.15.20//NONSGML v1.0//EN
CALSCALE:GREGORIAN
METHOD:PUBLISH
X-WR-CALNAME:Transition Schwarzenburgerland
X-ORIGINAL-URL:https://transition-schwarzenburgerland.ch
X-WR-CALDESC:Veranstaltungen für Transition Schwarzenburgerland
REFRESH-INTERVAL;VALUE=DURATION:PT1H
X-Robots-Tag:noindex
X-PUBLISHED-TTL:PT1H
BEGIN:VTIMEZONE
TZID:Europe/Zurich
BEGIN:DAYLIGHT
TZOFFSETFROM:+0100
TZOFFSETTO:+0200
TZNAME:CEST
DTSTART:20230326T010000
END:DAYLIGHT
BEGIN:STANDARD
TZOFFSETFROM:+0200
TZOFFSETTO:+0100
TZNAME:CET
DTSTART:20231029T010000
END:STANDARD
BEGIN:DAYLIGHT
TZOFFSETFROM:+0100
TZOFFSETTO:+0200
TZNAME:CEST
DTSTART:20240331T010000
END:DAYLIGHT
BEGIN:STANDARD
TZOFFSETFROM:+0200
TZOFFSETTO:+0100
TZNAME:CET
DTSTART:20241027T010000
END:STANDARD
BEGIN:DAYLIGHT
TZOFFSETFROM:+0100
TZOFFSETTO:+0200
TZNAME:CEST
DTSTART:20250330T010000
END:DAYLIGHT
BEGIN:STANDARD
TZOFFSETFROM:+0200
TZOFFSETTO:+0100
TZNAME:CET
DTSTART:20251026T010000
END:STANDARD
END:VTIMEZONE
BEGIN:VEVENT
DTSTART;TZID=Europe/Zurich:20240907T140000
DTEND;TZID=Europe/Zurich:20240907T170000
DTSTAMP:20260423T010135
CREATED:20240706T201632Z
LAST-MODIFIED:20250110T132017Z
UID:2129-1725717600-1725728400@transition-schwarzenburgerland.ch
SUMMARY:Führung Liechti Entsorgungshof
DESCRIPTION:Wie kann ich meinen Müll entsorgen? Was passiert mit Recyclingmaterialien? Wie finde ich einen verantwortungsvollen Umgang mit Ressourcen? \nDiesen Fragen wollen wir bei einer Führung beim Entsorgungshof Liechti nachgehen. \n14:00-16:00h Führung\, Treffpunkt direkt bei Liechti entsorgt Guggisbergstrasse 104 in Schwarzenburg\n16:00-17:00h gemeinsames Picknick/Teilette (jede/r bringt etwas mit)\n\nAnmeldung: Bitte meldet euch bis Samstag\, den 31. August per Email bei Andrea.loerwald@gmail.com an.
URL:https://transition-schwarzenburgerland.ch/agenda/fuehrung-liechti-entsorgungshof/
LOCATION:Liechti entsorgt\, Guggisbergstrasse 104\, Schwarzenburg\, 3150\, Schweiz
CATEGORIES:Abfall,Konsum
ATTACH;FMTTYPE=image/jpeg:https://transition-schwarzenburgerland.ch/wp-content/uploads/2024/07/Entsorgung.jpg
ORGANIZER;CN="Transition Schwarzenburgerland":MAILTO:transition.schwarzenburgerland@gmail.com
END:VEVENT
END:VCALENDAR