BEGIN:VCALENDAR
VERSION:2.0
PRODID:-//Transition Schwarzenburgerland - ECPv6.15.20//NONSGML v1.0//EN
CALSCALE:GREGORIAN
METHOD:PUBLISH
X-WR-CALNAME:Transition Schwarzenburgerland
X-ORIGINAL-URL:https://transition-schwarzenburgerland.ch
X-WR-CALDESC:Veranstaltungen für Transition Schwarzenburgerland
REFRESH-INTERVAL;VALUE=DURATION:PT1H
X-Robots-Tag:noindex
X-PUBLISHED-TTL:PT1H
BEGIN:VTIMEZONE
TZID:Europe/Zurich
BEGIN:DAYLIGHT
TZOFFSETFROM:+0100
TZOFFSETTO:+0200
TZNAME:CEST
DTSTART:20230326T010000
END:DAYLIGHT
BEGIN:STANDARD
TZOFFSETFROM:+0200
TZOFFSETTO:+0100
TZNAME:CET
DTSTART:20231029T010000
END:STANDARD
BEGIN:DAYLIGHT
TZOFFSETFROM:+0100
TZOFFSETTO:+0200
TZNAME:CEST
DTSTART:20240331T010000
END:DAYLIGHT
BEGIN:STANDARD
TZOFFSETFROM:+0200
TZOFFSETTO:+0100
TZNAME:CET
DTSTART:20241027T010000
END:STANDARD
BEGIN:DAYLIGHT
TZOFFSETFROM:+0100
TZOFFSETTO:+0200
TZNAME:CEST
DTSTART:20250330T010000
END:DAYLIGHT
BEGIN:STANDARD
TZOFFSETFROM:+0200
TZOFFSETTO:+0100
TZNAME:CET
DTSTART:20251026T010000
END:STANDARD
END:VTIMEZONE
BEGIN:VEVENT
DTSTART;TZID=Europe/Zurich:20240706T130000
DTEND;TZID=Europe/Zurich:20240706T160000
DTSTAMP:20260423T132238
CREATED:20240214T202805Z
LAST-MODIFIED:20240214T202805Z
UID:1998-1720270800-1720281600@transition-schwarzenburgerland.ch
SUMMARY:Zämä fürs Naturparadies – das Bannholz benötigt Pflege!
DESCRIPTION:Im Bannholz (Wahlern/Schwarzenburg) ist in den letzten Jahren aus einem monotonen Waldrand ein Lernort entstanden\, auf dem auf engstem Raum viele Kreisläufe in der Natur gezeigt werden können. Es blüht in allen Farben\, flattert und summt\, Vögel singen\, Kleinsäuger und Frösche können mit etwas Glück entdeckt werden. Ein wahres Paradies ist es auch für Wildbienen. Ein Festival für alle Sinne\, das wir spielerisch entdecken wollen! \nDamit die Biodiversität im Bannholz erhalten bleibt\, pflegen der Naturschutzverein Schwarzenburgerland und der Naturpark Gantrisch mit freiwilligen Helfern gemeinsam das Kleinod «Naturvielfalt Bannholz». Unter der Leitung des Naturparks wird an den Einsätzen neben Pflegearbeiten neues Wissen vermittelt. Die Anlässe finden bei jedem Wetter statt. \n\nAusrüstung\nDem Wetter angepasste Kleidung. Bitte nehmen Sie ihre eigenen Gartenhandschuhe mit. \n  \nKontakt und Anmeldung\nNaturpark Gantrisch\nnatureinsatz@gantrisch.ch\nTel. 031 808 00 20 \nWeitere Infos
URL:https://transition-schwarzenburgerland.ch/agenda/zaemae-fuers-naturparadies-das-bannholz-benoetigt-pflege-3/
LOCATION:Bannholz\, Bannholz\, Schwarzenburg\, 3150
CATEGORIES:Biodiversität
ATTACH;FMTTYPE=image/jpeg:https://transition-schwarzenburgerland.ch/wp-content/uploads/2022/09/Bannholz.jpeg
ORGANIZER;CN="Naturpark Gantrisch":MAILTO:info@gantrisch.ch
END:VEVENT
END:VCALENDAR