BEGIN:VCALENDAR
VERSION:2.0
PRODID:-//Transition Schwarzenburgerland - ECPv6.15.20//NONSGML v1.0//EN
CALSCALE:GREGORIAN
METHOD:PUBLISH
X-ORIGINAL-URL:https://transition-schwarzenburgerland.ch
X-WR-CALDESC:Veranstaltungen für Transition Schwarzenburgerland
REFRESH-INTERVAL;VALUE=DURATION:PT1H
X-Robots-Tag:noindex
X-PUBLISHED-TTL:PT1H
BEGIN:VTIMEZONE
TZID:Europe/Zurich
BEGIN:DAYLIGHT
TZOFFSETFROM:+0100
TZOFFSETTO:+0200
TZNAME:CEST
DTSTART:20230326T010000
END:DAYLIGHT
BEGIN:STANDARD
TZOFFSETFROM:+0200
TZOFFSETTO:+0100
TZNAME:CET
DTSTART:20231029T010000
END:STANDARD
BEGIN:DAYLIGHT
TZOFFSETFROM:+0100
TZOFFSETTO:+0200
TZNAME:CEST
DTSTART:20240331T010000
END:DAYLIGHT
BEGIN:STANDARD
TZOFFSETFROM:+0200
TZOFFSETTO:+0100
TZNAME:CET
DTSTART:20241027T010000
END:STANDARD
BEGIN:DAYLIGHT
TZOFFSETFROM:+0100
TZOFFSETTO:+0200
TZNAME:CEST
DTSTART:20250330T010000
END:DAYLIGHT
BEGIN:STANDARD
TZOFFSETFROM:+0200
TZOFFSETTO:+0100
TZNAME:CET
DTSTART:20251026T010000
END:STANDARD
END:VTIMEZONE
BEGIN:VEVENT
DTSTART;TZID=Europe/Zurich:20240606T193000
DTEND;TZID=Europe/Zurich:20240606T203000
DTSTAMP:20260423T200735
CREATED:20240429T142140Z
LAST-MODIFIED:20240429T142206Z
UID:1776-1717702200-1717705800@transition-schwarzenburgerland.ch
SUMMARY:Input Café Schwarzenburg : Film : #Female Pleasure. Ausschnitte und Diskussion
DESCRIPTION:So funktioniert’s:\nAlle 2 Monate wird ein Thema in Fokus gestellt und mit allen Teilnehmenden darüber ausgetauscht.  \nErster Teil \nEine Person mit Wissen und Erfahrung liefert Inputs.  \nZweiter Teil \nDie Teilnehmenden haben die Gelegenheit ihre Fragen zu stellen.  \nDritter Teil \nFreier Austausch zu persönlichen Erfahrungen. Eine Moderator*in sorgt dafür\, dass alle zu Wort kommen\, die etwas beitragen möchten. Alle hören einander wertschätzend zu. \nUnkostenbeitrag: CHF 10.- inkl. einem Getränk \nModeration: N. Andres\, Sozialpädagogin \nFlyer Input Café
URL:https://transition-schwarzenburgerland.ch/agenda/input-cafe-schwarzenburg-film-female-pleasure-ausschnitte-und-diskussion/
LOCATION:Generationehuus\, Bernstrasse 9\, Schwarzenburg\, BE\, 3150\, Schweiz
CATEGORIES:Innerer Wandel,Sozial,Zusammenleben
ATTACH;FMTTYPE=image/jpeg:https://transition-schwarzenburgerland.ch/wp-content/uploads/2023/09/Image-Input-Cafe-Schwarzenburg-1.jpg
END:VEVENT
END:VCALENDAR