BEGIN:VCALENDAR
VERSION:2.0
PRODID:-//Transition Schwarzenburgerland - ECPv6.15.20//NONSGML v1.0//EN
CALSCALE:GREGORIAN
METHOD:PUBLISH
X-WR-CALNAME:Transition Schwarzenburgerland
X-ORIGINAL-URL:https://transition-schwarzenburgerland.ch
X-WR-CALDESC:Veranstaltungen für Transition Schwarzenburgerland
REFRESH-INTERVAL;VALUE=DURATION:PT1H
X-Robots-Tag:noindex
X-PUBLISHED-TTL:PT1H
BEGIN:VTIMEZONE
TZID:Europe/Zurich
BEGIN:DAYLIGHT
TZOFFSETFROM:+0100
TZOFFSETTO:+0200
TZNAME:CEST
DTSTART:20230326T010000
END:DAYLIGHT
BEGIN:STANDARD
TZOFFSETFROM:+0200
TZOFFSETTO:+0100
TZNAME:CET
DTSTART:20231029T010000
END:STANDARD
BEGIN:DAYLIGHT
TZOFFSETFROM:+0100
TZOFFSETTO:+0200
TZNAME:CEST
DTSTART:20240331T010000
END:DAYLIGHT
BEGIN:STANDARD
TZOFFSETFROM:+0200
TZOFFSETTO:+0100
TZNAME:CET
DTSTART:20241027T010000
END:STANDARD
BEGIN:DAYLIGHT
TZOFFSETFROM:+0100
TZOFFSETTO:+0200
TZNAME:CEST
DTSTART:20250330T010000
END:DAYLIGHT
BEGIN:STANDARD
TZOFFSETFROM:+0200
TZOFFSETTO:+0100
TZNAME:CET
DTSTART:20251026T010000
END:STANDARD
END:VTIMEZONE
BEGIN:VEVENT
DTSTART;TZID=Europe/Zurich:20240524T193000
DTEND;TZID=Europe/Zurich:20240524T211500
DTSTAMP:20260423T232310
CREATED:20240214T203705Z
LAST-MODIFIED:20240423T200547Z
UID:2000-1716579000-1716585300@transition-schwarzenburgerland.ch
SUMMARY:Filme für die Erde Pop-up Kino
DESCRIPTION:Am Freitag\, den 24. Mai 2024\, lädt Filme für die Erde zusammen mit Transition Schwarzenburgerland im Generationehuus Schwarzenburg zum Pop-up Kino ein. \nDieses Jahr dürfen wir „Ernte teilen – Anders Ackern für die Zukunft“ zum Thema solidarische Landwirtschaft. Weitere Infos gibt es bei Filme für die Erde. \nERNTE TEILEN erzählt die Geschichte von Landwirt:innen\, die aus den Strukturen der konventionellen Landwirtschaft ausbrechen und sich der sogenannten Solidarischen Landwirtschaft (Solawi) verschrieben haben. \nFilmemacher Philipp Petruch begibt sich mit dem Film auf eine Reise zu drei Solawi-Initiativen in Brandenburg und Mecklenburg-Vorpommern. Sie verbindet ein klares Ziel: Mit Hilfe von Gemeinschaften schaffen sie einen lokalen Versorgungskreislauf nach den Werten von Ökologie und Gemeinwohl. \nMit Mut\, Gemeinschaftssinn und einem neuen Verhältnis von Konsument:in und Produzent:in können sie die Landwirtschaft verändern. Und ein kleines Stück die Welt.
URL:https://transition-schwarzenburgerland.ch/agenda/film-fuer-die-erde/
LOCATION:Generationehuus\, Bernstrasse 9\, Schwarzenburg\, BE\, 3150\, Schweiz
CATEGORIES:Biodiversität,Klima,Landwirtschaft,Lokale Kreisläufe
ATTACH;FMTTYPE=image/jpeg:https://transition-schwarzenburgerland.ch/wp-content/uploads/2024/02/ErnteTeilen_Still©KevinSchaub_Genossen_Feld_Mitbauern_1.199.1-1024x576-1.jpg
ORGANIZER;CN="Transition Schwarzenburgerland":MAILTO:transition.schwarzenburgerland@gmail.com
END:VEVENT
END:VCALENDAR