BEGIN:VCALENDAR
VERSION:2.0
PRODID:-//Transition Schwarzenburgerland - ECPv6.15.20//NONSGML v1.0//EN
CALSCALE:GREGORIAN
METHOD:PUBLISH
X-WR-CALNAME:Transition Schwarzenburgerland
X-ORIGINAL-URL:https://transition-schwarzenburgerland.ch
X-WR-CALDESC:Veranstaltungen für Transition Schwarzenburgerland
REFRESH-INTERVAL;VALUE=DURATION:PT1H
X-Robots-Tag:noindex
X-PUBLISHED-TTL:PT1H
BEGIN:VTIMEZONE
TZID:Europe/Zurich
BEGIN:DAYLIGHT
TZOFFSETFROM:+0100
TZOFFSETTO:+0200
TZNAME:CEST
DTSTART:20230326T010000
END:DAYLIGHT
BEGIN:STANDARD
TZOFFSETFROM:+0200
TZOFFSETTO:+0100
TZNAME:CET
DTSTART:20231029T010000
END:STANDARD
BEGIN:DAYLIGHT
TZOFFSETFROM:+0100
TZOFFSETTO:+0200
TZNAME:CEST
DTSTART:20240331T010000
END:DAYLIGHT
BEGIN:STANDARD
TZOFFSETFROM:+0200
TZOFFSETTO:+0100
TZNAME:CET
DTSTART:20241027T010000
END:STANDARD
BEGIN:DAYLIGHT
TZOFFSETFROM:+0100
TZOFFSETTO:+0200
TZNAME:CEST
DTSTART:20250330T010000
END:DAYLIGHT
BEGIN:STANDARD
TZOFFSETFROM:+0200
TZOFFSETTO:+0100
TZNAME:CET
DTSTART:20251026T010000
END:STANDARD
END:VTIMEZONE
BEGIN:VEVENT
DTSTART;TZID=Europe/Zurich:20240323T203000
DTEND;TZID=Europe/Zurich:20240323T213000
DTSTAMP:20260423T232300
CREATED:20240221T122342Z
LAST-MODIFIED:20240221T122342Z
UID:2028-1711225800-1711229400@transition-schwarzenburgerland.ch
SUMMARY:Earth Hour
DESCRIPTION:Am 23. März 2024 um 20:30 Uhr ist Earth Hour. Millionen Menschen auf der ganzen Welt\, tausende Städte und Unternehmen löschen das Licht – oder widmen unserer Erde bewusst eine Stunde. Initiiert vom WWF setzen sie so gemeinsam ein globales Zeichen für Klimaschutz und einen lebendigen Planeten. \n\nWie «Deine Stunde für die Erde» aussehen könnte\n\n\n\n \n\nEntdecken Sie die Schönheit der Natur: Kennen Sie Google Lens oder Seek von iNaturalist? Diese Apps helfen Ihnen\, Pflanzen und Tierarten in Ihrer Umgebung zu erkennen.\nFinden Sie fünf Dinge in ihrem Haushalt\, die Sie durch nachhaltigere Alternativen ersetzen könnten.\nGehen Sie durch Ihre Social-Media-Accounts und folgen Sie Organisationen und Projekten\, die sich für Natur und Klima einsetzen (und «entfolgen» Sie die anderen).\nReparieren Sie ein Kleidungsstück.\nSchauen Sie einen Film über die Natur – zum Beispiel David Attenboroughs «Film Our Planet» (Deutsch auf Netflix)\, unsere WWF-Serie «Untangled»\, oder «Pocoyo’s Earth Hour Videos» (für Kinder).\nBewegen Sie sich aktiv in der Natur: laufen\, Velo fahren\, wandern. Das tut immer gut.\nProbieren Sie ein veganes Restaurant aus oder kochen Sie ein veganes Gericht.\nMachen Sie Ihr Velo fit fürs Frühjahr.\nNehmen Sie den ÖV statt des Autos oder bilden Sie eine Fahrgemeinschaft\, um den CO2-Ausstoss zu verringern.
URL:https://transition-schwarzenburgerland.ch/agenda/earth-hour/
LOCATION:wwf
CATEGORIES:Klima
ATTACH;FMTTYPE=image/jpeg:https://transition-schwarzenburgerland.ch/wp-content/uploads/2024/02/earth-hour-logo.jpg
END:VEVENT
END:VCALENDAR