BEGIN:VCALENDAR
VERSION:2.0
PRODID:-//Transition Schwarzenburgerland - ECPv6.15.20//NONSGML v1.0//EN
CALSCALE:GREGORIAN
METHOD:PUBLISH
X-WR-CALNAME:Transition Schwarzenburgerland
X-ORIGINAL-URL:https://transition-schwarzenburgerland.ch
X-WR-CALDESC:Veranstaltungen für Transition Schwarzenburgerland
REFRESH-INTERVAL;VALUE=DURATION:PT1H
X-Robots-Tag:noindex
X-PUBLISHED-TTL:PT1H
BEGIN:VTIMEZONE
TZID:Europe/Zurich
BEGIN:DAYLIGHT
TZOFFSETFROM:+0100
TZOFFSETTO:+0200
TZNAME:CEST
DTSTART:20230326T010000
END:DAYLIGHT
BEGIN:STANDARD
TZOFFSETFROM:+0200
TZOFFSETTO:+0100
TZNAME:CET
DTSTART:20231029T010000
END:STANDARD
BEGIN:DAYLIGHT
TZOFFSETFROM:+0100
TZOFFSETTO:+0200
TZNAME:CEST
DTSTART:20240331T010000
END:DAYLIGHT
BEGIN:STANDARD
TZOFFSETFROM:+0200
TZOFFSETTO:+0100
TZNAME:CET
DTSTART:20241027T010000
END:STANDARD
BEGIN:DAYLIGHT
TZOFFSETFROM:+0100
TZOFFSETTO:+0200
TZNAME:CEST
DTSTART:20250330T010000
END:DAYLIGHT
BEGIN:STANDARD
TZOFFSETFROM:+0200
TZOFFSETTO:+0100
TZNAME:CET
DTSTART:20251026T010000
END:STANDARD
END:VTIMEZONE
BEGIN:VEVENT
DTSTART;TZID=Europe/Zurich:20240302T100000
DTEND;TZID=Europe/Zurich:20240302T170000
DTSTAMP:20260423T232315
CREATED:20240217T162741Z
LAST-MODIFIED:20240217T162741Z
UID:2022-1709373600-1709398800@transition-schwarzenburgerland.ch
SUMMARY:Abenteuer Zero Waste
DESCRIPTION:Bist du neugierig darauf\, wie du die Welt positiv beeinflussen kannst? \nTauche ein in unseren Workshop und erfahre\, wie du spielend leicht zu einem nachhaltigen Lebensstil wechseln und deine Gewohnheiten verändern kannst. Gemeinsam erkunden wir nachhaltige Geschäfte\, entdecken Unverpacktläden\, stöbern in der Leih-bar und setzen unsere Ideen im Repair Cafe in die Tat um. Sei dabei – denn auch kleine Schritte können Grosses bewirken!
URL:https://transition-schwarzenburgerland.ch/agenda/abenteuer-zero-waste/
LOCATION:Feuerwehr Viktoria\, Bern\, Feuerwehr Viktoria\, Bern\, Switzerland
CATEGORIES:Abfall,Konsum,Lokale Kreisläufe
END:VEVENT
END:VCALENDAR