BEGIN:VCALENDAR
VERSION:2.0
PRODID:-//Transition Schwarzenburgerland - ECPv6.15.20//NONSGML v1.0//EN
CALSCALE:GREGORIAN
METHOD:PUBLISH
X-ORIGINAL-URL:https://transition-schwarzenburgerland.ch
X-WR-CALDESC:Veranstaltungen für Transition Schwarzenburgerland
REFRESH-INTERVAL;VALUE=DURATION:PT1H
X-Robots-Tag:noindex
X-PUBLISHED-TTL:PT1H
BEGIN:VTIMEZONE
TZID:Europe/Zurich
BEGIN:DAYLIGHT
TZOFFSETFROM:+0100
TZOFFSETTO:+0200
TZNAME:CEST
DTSTART:20220327T010000
END:DAYLIGHT
BEGIN:STANDARD
TZOFFSETFROM:+0200
TZOFFSETTO:+0100
TZNAME:CET
DTSTART:20221030T010000
END:STANDARD
BEGIN:DAYLIGHT
TZOFFSETFROM:+0100
TZOFFSETTO:+0200
TZNAME:CEST
DTSTART:20230326T010000
END:DAYLIGHT
BEGIN:STANDARD
TZOFFSETFROM:+0200
TZOFFSETTO:+0100
TZNAME:CET
DTSTART:20231029T010000
END:STANDARD
BEGIN:DAYLIGHT
TZOFFSETFROM:+0100
TZOFFSETTO:+0200
TZNAME:CEST
DTSTART:20240331T010000
END:DAYLIGHT
BEGIN:STANDARD
TZOFFSETFROM:+0200
TZOFFSETTO:+0100
TZNAME:CET
DTSTART:20241027T010000
END:STANDARD
END:VTIMEZONE
BEGIN:VEVENT
DTSTART;VALUE=DATE:20230622
DTEND;VALUE=DATE:20230628
DTSTAMP:20260425T035902
CREATED:20220508T193221Z
LAST-MODIFIED:20230612T084936Z
UID:750-1687392000-1687910399@transition-schwarzenburgerland.ch
SUMMARY:Sounding Soil - Dem Boden zuhören
DESCRIPTION:Kann man Gras wachsen hören? Wie hört es sich an\, wenn der Regenwurm mit dem Springschwanz kommuniziert? Wie unterschiedlich tönt ein Komposthaufen\, ein Waldboden\, eine Wiese? \nEines der begehrten „Sounding-Soil“-Bodenlausch- und Aufnahmegeräte macht Station in Niedereichi/Lanzenhäusern und kann vom 22. Juni bis 27. Juni ausgeliehen werden.  \nMit den „Sounding Soil“-Bodensensoren werden für dich Leben und Prozesse im Boden hör- und erlebbar. Neben Gekrabbel und Gekrieche sind auch Kommunikationslaute und Fressgeräusche der Bodentiere zu hören. Ein einmaliges Erlebnis. \nSounding Soil ist ein nationales Forschungs- und Kunstprojekt\,  in dem die Akustik von Bodenökosystemen untersucht wird – und so zur Bedeutung von gesunden\, lebendigen Bäden sensibilisieren möchte. \nFür wen: Für alle\, speziell auch für Kinder geeignet. \nBitte für Reservation Kontakt aufnehmen per SMS oder whatsapp unter 078 896 62 67 \nWeitere Infos unter www.soundingsoil.ch\, Kurzvideo zu Sounding Soil \, Einstein-Sendung zu Sounding Soil – Ökoakustik
URL:https://transition-schwarzenburgerland.ch/agenda/sounding-soil-dem-boden-zuhoeren/
LOCATION:Permakultur-Garten Niedereichiweg 2 Nord\, Niedereichi 48\, Lanzenhäusern\, Schweiz\, 3148\, Schweiz
CATEGORIES:Garten,Klima,Naturdialog
ATTACH;FMTTYPE=image/png:https://transition-schwarzenburgerland.ch/wp-content/uploads/2022/05/Sounding-Soil.png
ORGANIZER;CN="Remo Ryser":MAILTO:info(at)von-wegen.ch
END:VEVENT
END:VCALENDAR