BEGIN:VCALENDAR
VERSION:2.0
PRODID:-//Transition Schwarzenburgerland - ECPv6.15.20//NONSGML v1.0//EN
CALSCALE:GREGORIAN
METHOD:PUBLISH
X-ORIGINAL-URL:https://transition-schwarzenburgerland.ch
X-WR-CALDESC:Veranstaltungen für Transition Schwarzenburgerland
REFRESH-INTERVAL;VALUE=DURATION:PT1H
X-Robots-Tag:noindex
X-PUBLISHED-TTL:PT1H
BEGIN:VTIMEZONE
TZID:Europe/Zurich
BEGIN:DAYLIGHT
TZOFFSETFROM:+0100
TZOFFSETTO:+0200
TZNAME:CEST
DTSTART:20220327T010000
END:DAYLIGHT
BEGIN:STANDARD
TZOFFSETFROM:+0200
TZOFFSETTO:+0100
TZNAME:CET
DTSTART:20221030T010000
END:STANDARD
BEGIN:DAYLIGHT
TZOFFSETFROM:+0100
TZOFFSETTO:+0200
TZNAME:CEST
DTSTART:20230326T010000
END:DAYLIGHT
BEGIN:STANDARD
TZOFFSETFROM:+0200
TZOFFSETTO:+0100
TZNAME:CET
DTSTART:20231029T010000
END:STANDARD
BEGIN:DAYLIGHT
TZOFFSETFROM:+0100
TZOFFSETTO:+0200
TZNAME:CEST
DTSTART:20240331T010000
END:DAYLIGHT
BEGIN:STANDARD
TZOFFSETFROM:+0200
TZOFFSETTO:+0100
TZNAME:CET
DTSTART:20241027T010000
END:STANDARD
END:VTIMEZONE
BEGIN:VEVENT
DTSTART;TZID=Europe/Zurich:20230427T170000
DTEND;TZID=Europe/Zurich:20230427T184500
DTSTAMP:20260425T130118
CREATED:20230417T073632Z
LAST-MODIFIED:20230430T103739Z
UID:1500-1682614800-1682621100@transition-schwarzenburgerland.ch
SUMMARY:Energie- und Klima-Talks: Heizungsersatz – So packe ich das an!
DESCRIPTION:Ist Ihre fossile Heizung bereits in die Jahre gekommen? Das ist der Zeitpunkt\, über einen Ersatz nachzudenken. Der Ersatz einer fossilen Heizung durch erneuerbare Energieträger reduziert die CO2-Emissionen\, aber auch die Nebenkosten spürbar. \nSie erhalten wertvolle Informationen zum revidierten Energiegesetz\, zu den Fördermöglichkeiten sowie zum Mehrwert der Energieberatung. \nWie erfülle ich die gesetzliche Meldepflicht? Welche erneuerbaren Heizsysteme gibt es und wie gehe ich beim Heizungsersatz vor? Wie und was wird gefördert? Darauf erhalten Sie Antworten von Fachleuten und Energieberatern. Und die Gemeinde Schwarzenburg als zertifizierte Energiestadt informiert über aktuelle Projekte wie beispielweise den regionalen Fernwärmeverbund. \nHaben Sie bereits brennende Fragen? Stellen Sie uns diese entweder bei der Anmeldung\, direkt am Anlass oder online im Chat. Sie erhalten die Antworten von den Podiumsteilnehmern. \nDurch den Talk führt Sie die Radio-SRF1-Moderatorin Sonja Hasler. \nWir freuen uns auf Ihre Teilnahme und spannende Gespräche während dem Apéro. \nAnmeldung hier
URL:https://transition-schwarzenburgerland.ch/agenda/heizungsersatz-so-packe-ich-das-an/
LOCATION:Mehrzweckanlage Pöschen\, Freiburgstrasse 100\, Schwarzenburg\, 3150\, Schweiz
CATEGORIES:Energie,Klima
END:VEVENT
END:VCALENDAR