BEGIN:VCALENDAR
VERSION:2.0
PRODID:-//Transition Schwarzenburgerland - ECPv6.15.20//NONSGML v1.0//EN
CALSCALE:GREGORIAN
METHOD:PUBLISH
X-ORIGINAL-URL:https://transition-schwarzenburgerland.ch
X-WR-CALDESC:Veranstaltungen für Transition Schwarzenburgerland
REFRESH-INTERVAL;VALUE=DURATION:PT1H
X-Robots-Tag:noindex
X-PUBLISHED-TTL:PT1H
BEGIN:VTIMEZONE
TZID:Europe/Zurich
BEGIN:DAYLIGHT
TZOFFSETFROM:+0100
TZOFFSETTO:+0200
TZNAME:CEST
DTSTART:20220327T010000
END:DAYLIGHT
BEGIN:STANDARD
TZOFFSETFROM:+0200
TZOFFSETTO:+0100
TZNAME:CET
DTSTART:20221030T010000
END:STANDARD
BEGIN:DAYLIGHT
TZOFFSETFROM:+0100
TZOFFSETTO:+0200
TZNAME:CEST
DTSTART:20230326T010000
END:DAYLIGHT
BEGIN:STANDARD
TZOFFSETFROM:+0200
TZOFFSETTO:+0100
TZNAME:CET
DTSTART:20231029T010000
END:STANDARD
BEGIN:DAYLIGHT
TZOFFSETFROM:+0100
TZOFFSETTO:+0200
TZNAME:CEST
DTSTART:20240331T010000
END:DAYLIGHT
BEGIN:STANDARD
TZOFFSETFROM:+0200
TZOFFSETTO:+0100
TZNAME:CET
DTSTART:20241027T010000
END:STANDARD
END:VTIMEZONE
BEGIN:VEVENT
DTSTART;TZID=Europe/Zurich:20230423T090000
DTEND;TZID=Europe/Zurich:20230423T160000
DTSTAMP:20260425T130121
CREATED:20230305T134616Z
LAST-MODIFIED:20230430T103746Z
UID:1407-1682240400-1682265600@transition-schwarzenburgerland.ch
SUMMARY:Permakultur Einführungskurs
DESCRIPTION:Permakultur ist eine Planungsmethode\, die uns dazu befähigt\, lokale\nund globale Herausforderungen anzupacken. Permakultur ist auch ein\ntolles Netzwerk\, bestehend aus unterschiedlichsten Menschen.\nHast du Lust\, die Ideen und Ansätze der Permakultur kennenzulernen?\nDas GRÜNIG Seiliacher bietet dir über zwei Tage einen bunten Mix aus\nspielerischem Lernen und Gartenpraxis!
URL:https://transition-schwarzenburgerland.ch/agenda/permakultur-einfuehrungskurs/
LOCATION:Grünig Seiliacher\, Kirchenthurnen
CATEGORIES:Biodiversität,Garten
ATTACH;FMTTYPE=image/jpeg:https://transition-schwarzenburgerland.ch/wp-content/uploads/2023/03/permakultur.jpg
ORGANIZER;CN="Naturpark Gantrisch":MAILTO:info@gantrisch.ch
END:VEVENT
END:VCALENDAR