BEGIN:VCALENDAR
VERSION:2.0
PRODID:-//Transition Schwarzenburgerland - ECPv6.15.20//NONSGML v1.0//EN
CALSCALE:GREGORIAN
METHOD:PUBLISH
X-WR-CALNAME:Transition Schwarzenburgerland
X-ORIGINAL-URL:https://transition-schwarzenburgerland.ch
X-WR-CALDESC:Veranstaltungen für Transition Schwarzenburgerland
REFRESH-INTERVAL;VALUE=DURATION:PT1H
X-Robots-Tag:noindex
X-PUBLISHED-TTL:PT1H
BEGIN:VTIMEZONE
TZID:Europe/Zurich
BEGIN:DAYLIGHT
TZOFFSETFROM:+0100
TZOFFSETTO:+0200
TZNAME:CEST
DTSTART:20220327T010000
END:DAYLIGHT
BEGIN:STANDARD
TZOFFSETFROM:+0200
TZOFFSETTO:+0100
TZNAME:CET
DTSTART:20221030T010000
END:STANDARD
BEGIN:DAYLIGHT
TZOFFSETFROM:+0100
TZOFFSETTO:+0200
TZNAME:CEST
DTSTART:20230326T010000
END:DAYLIGHT
BEGIN:STANDARD
TZOFFSETFROM:+0200
TZOFFSETTO:+0100
TZNAME:CET
DTSTART:20231029T010000
END:STANDARD
BEGIN:DAYLIGHT
TZOFFSETFROM:+0100
TZOFFSETTO:+0200
TZNAME:CEST
DTSTART:20240331T010000
END:DAYLIGHT
BEGIN:STANDARD
TZOFFSETFROM:+0200
TZOFFSETTO:+0100
TZNAME:CET
DTSTART:20241027T010000
END:STANDARD
END:VTIMEZONE
BEGIN:VEVENT
DTSTART;TZID=Europe/Zurich:20230402T100000
DTEND;TZID=Europe/Zurich:20230402T120000
DTSTAMP:20260425T144904
CREATED:20230202T191054Z
LAST-MODIFIED:20230430T103812Z
UID:1360-1680429600-1680436800@transition-schwarzenburgerland.ch
SUMMARY:Sunday Dance - freies tanzen für jung und alt
DESCRIPTION:Wir freuen uns auf das gemeinsame tanzen! \nMitbringen: Bequeme Kleidung\, Getränke\, 10.- Unkostenbeitrag \n 
URL:https://transition-schwarzenburgerland.ch/agenda/sunday-dance-freies-tanzen-fuer-jung-und-alt-5/
LOCATION:Kirchgemeindehaus\, Junkerngasse 13\, Schwarzenburg\, 3150\, Schweiz
CATEGORIES:Innerer Wandel,Kultur,Zusammenleben
ATTACH;FMTTYPE=image/jpeg:https://transition-schwarzenburgerland.ch/wp-content/uploads/2023/02/sunda-dance-vernetzung-gantrisch-scaled.jpg
END:VEVENT
END:VCALENDAR