BEGIN:VCALENDAR
VERSION:2.0
PRODID:-//Transition Schwarzenburgerland - ECPv6.15.20//NONSGML v1.0//EN
CALSCALE:GREGORIAN
METHOD:PUBLISH
X-ORIGINAL-URL:https://transition-schwarzenburgerland.ch
X-WR-CALDESC:Veranstaltungen für Transition Schwarzenburgerland
REFRESH-INTERVAL;VALUE=DURATION:PT1H
X-Robots-Tag:noindex
X-PUBLISHED-TTL:PT1H
BEGIN:VTIMEZONE
TZID:Europe/Zurich
BEGIN:DAYLIGHT
TZOFFSETFROM:+0100
TZOFFSETTO:+0200
TZNAME:CEST
DTSTART:20220327T010000
END:DAYLIGHT
BEGIN:STANDARD
TZOFFSETFROM:+0200
TZOFFSETTO:+0100
TZNAME:CET
DTSTART:20221030T010000
END:STANDARD
BEGIN:DAYLIGHT
TZOFFSETFROM:+0100
TZOFFSETTO:+0200
TZNAME:CEST
DTSTART:20230326T010000
END:DAYLIGHT
BEGIN:STANDARD
TZOFFSETFROM:+0200
TZOFFSETTO:+0100
TZNAME:CET
DTSTART:20231029T010000
END:STANDARD
BEGIN:DAYLIGHT
TZOFFSETFROM:+0100
TZOFFSETTO:+0200
TZNAME:CEST
DTSTART:20240331T010000
END:DAYLIGHT
BEGIN:STANDARD
TZOFFSETFROM:+0200
TZOFFSETTO:+0100
TZNAME:CET
DTSTART:20241027T010000
END:STANDARD
END:VTIMEZONE
BEGIN:VEVENT
DTSTART;TZID=Europe/Zurich:20230213T190000
DTEND;TZID=Europe/Zurich:20230213T220000
DTSTAMP:20260425T233608
CREATED:20220513T131421Z
LAST-MODIFIED:20230430T103901Z
UID:766-1676314800-1676325600@transition-schwarzenburgerland.ch
SUMMARY:Klima-Fresque : Workshop zum Klimawandel
DESCRIPTION:In Zusammenarbeit mit der Kirchgemeinde im Rahmen von MuM (Männer und Männer)\n \nDie „Klima-Fresque“ (auch “Klima Puzzle” genannt) ist ein interaktiver und kreativer Workshop zum Thema Klimawandel. \nIn nur drei Stunden unser Klimasystem verstehen! \nBesser verstehen\, um richtig zu handeln. Basierend auf den Berichten des Weltklimarats macht der Workshop wissenschaftliche Informationen auf eine pädagogisch wertvolle Weise leichter zugänglich. \nEntdecken oder vertiefen. Der Workshop ist so aufbereitet\, dass Neulinge genauso wie Klima-ExpertInnen etwas mitnehmen und beitragen können. \nGemeinsam nachdenken und diskutieren. Schwarmintelligenz ist der Schlüssel\, um die 42 Spielkarten in ihre Reihenfolge zu bringen. Ein Puzzle entsteht – denn alles hängt zusammen! \n  \nAnmeldungen an jochen.matthaeus[at]bluewin.ch \nWeitere Information über die Klima-Fresque\, das Workshop zum Klimawandel auf die Internationale Webseite. \nFLYER \n  \nWeitere Veranstaltungen von Transition Schwarzenburgerland in unserem Agenda! \nPoste selber einen Kurs oder Anlass hier: https://transition-schwarzenburgerland.ch/event-posten
URL:https://transition-schwarzenburgerland.ch/agenda/klima-fresque-workshop-zum-klimawandel-3/
LOCATION:KUW-Raum Wahlern\, Wahlern 191\, Wahlern\, 3150\, Schweiz
CATEGORIES:Klima,Workshop
ATTACH;FMTTYPE=image/png:https://transition-schwarzenburgerland.ch/wp-content/uploads/2022/05/Klima-Fresque-e1652447635753.png
ORGANIZER;CN="Transition Schwarzenburgerland":MAILTO:transition.schwarzenburgerland@gmail.com
END:VEVENT
END:VCALENDAR